BEGIN:VCALENDAR
VERSION:2.0
PRODID:-//Navigator Dalarna - ECPv6.15.17.1//NONSGML v1.0//EN
CALSCALE:GREGORIAN
METHOD:PUBLISH
X-ORIGINAL-URL:https://navigatordalarna.com
X-WR-CALDESC:Händelser för Navigator Dalarna
REFRESH-INTERVAL;VALUE=DURATION:PT1H
X-Robots-Tag:noindex
X-PUBLISHED-TTL:PT1H
BEGIN:VTIMEZONE
TZID:Europe/Stockholm
BEGIN:DAYLIGHT
TZOFFSETFROM:+0100
TZOFFSETTO:+0200
TZNAME:CEST
DTSTART:20230326T010000
END:DAYLIGHT
BEGIN:STANDARD
TZOFFSETFROM:+0200
TZOFFSETTO:+0100
TZNAME:CET
DTSTART:20231029T010000
END:STANDARD
BEGIN:DAYLIGHT
TZOFFSETFROM:+0100
TZOFFSETTO:+0200
TZNAME:CEST
DTSTART:20240331T010000
END:DAYLIGHT
BEGIN:STANDARD
TZOFFSETFROM:+0200
TZOFFSETTO:+0100
TZNAME:CET
DTSTART:20241027T010000
END:STANDARD
BEGIN:DAYLIGHT
TZOFFSETFROM:+0100
TZOFFSETTO:+0200
TZNAME:CEST
DTSTART:20250330T010000
END:DAYLIGHT
BEGIN:STANDARD
TZOFFSETFROM:+0200
TZOFFSETTO:+0100
TZNAME:CET
DTSTART:20251026T010000
END:STANDARD
BEGIN:DAYLIGHT
TZOFFSETFROM:+0100
TZOFFSETTO:+0200
TZNAME:CEST
DTSTART:20260329T010000
END:DAYLIGHT
BEGIN:STANDARD
TZOFFSETFROM:+0200
TZOFFSETTO:+0100
TZNAME:CET
DTSTART:20261025T010000
END:STANDARD
BEGIN:DAYLIGHT
TZOFFSETFROM:+0100
TZOFFSETTO:+0200
TZNAME:CEST
DTSTART:20270328T010000
END:DAYLIGHT
BEGIN:STANDARD
TZOFFSETFROM:+0200
TZOFFSETTO:+0100
TZNAME:CET
DTSTART:20271031T010000
END:STANDARD
END:VTIMEZONE
BEGIN:VEVENT
DTSTART;TZID=Europe/Stockholm:20240101T080000
DTEND;TZID=Europe/Stockholm:20261231T170000
DTSTAMP:20260422T152902
CREATED:20260122T102647Z
LAST-MODIFIED:20260123T135122Z
UID:516-1704096000-1798736400@navigatordalarna.com
SUMMARY:Tillsammans för ett effektivare mottagande (TEM)
DESCRIPTION:Projektets målsättning är att skapa ett resilient mottagande i småkommuner i Dalarna genom tidiga insatser och bred samverkan mellan offentlig sektor och civilsamhället. Det innebär att vi i Dalarna ska skapa förutsättningar för de flyktingar som lever i Dalarna att integreras i samhället. Vi ska även ha kapacitet och förmåga att klara av de variationer som är i flyktingmottagandet. \n\n\n\n\nProjektet ägs av Länsstyrelsen i Dalarnas län och genomförs i samarbete med Vansbro kommun\, Säters kommun\, Smedjebackens kommun och Falun-Borlänge Regionen. Projektet sträcker sig från 1 januari 2024 till 31 december 2026 och medfinansieras med medel från Europeiska unionen. \n\n\n\n\nVad ska göras inom projektet?\nInom projektet genomförs insatser riktade mot framför allt: \n\npersoner som är asylsökande\npersoner från Ukraina som lyder under massflyktsdirektivet\nKVOT/ABO flyktingar som har fått uppehållstillstånd och befunnit sig i Sverige i mindre än tre år. Insatserna utgår från individens behov och kan bestå av till exempel utbildningar för att öka den digitala kompetensen\, arbetsmarknadskunskap\, språkundervisning eller hälsofrämjande insatser.\n\nInsatserna kan bestå av till exempel utbildningar för att öka den digitala kompetensen\, arbetsmarknadskunskap\, språkundervisning eller hälsofrämjande insatser. Det kan också handla om att utbilda och engagera flyktingguider som kan bidra med social trygghet. \nSamhällsorientering för nyanlända \nProjektet ska också anordna kompetenshöjande insatser för att höja kunskap och stärka samverkan. Dessa insatser riktar sig främst till: \n\noffentligt anställda som möter målgruppen\noch personer som är engagerade inom civilsamhället.\n\nInsatserna riktar sig till personer bosatta eller verksamma i Dalarnas län med särskild fokus på pilotkommunerna Vansbro\, Säter och Smedjebacken. \nVarför genomförs projektet?\nProjektet genomförs då man identifierat att det saknas förutsättningar för att ta emot och genomföra önskvärda insatser för mottagande i Dalarna. Det beror bland annat på knapp ekonomiska resurser och att lagstadgade verksamhet prioriteras framför förebyggande verksamhet. Genom förebyggande verksamhet\, bland annat de insatser som ska genomföras inom projektet\, kan man skapa ett effektivare mottagande både för individen och samhället. \nEtt annat problem som identifierats är att behoven för mottagande varierar över tid\, både gällande antalet flyktingar som kommer till Dalarna och att förutsättningarna skiljer sig åt för de personer som kommer. I Dalarna har vi också stora geografiska avstånd vilket försvårar samverkan kring mottagande och insatser. Inom projektet är målsättningen att skapa bättre förutsättningar att hantera variationer över tid och långsiktig samverkan mellan aktörer i länet. \nEn stor resurs när det kommer till ett resilient mottagande är civilsamhället. Det finns en stor kraft i civilsamhällets engagemang och många av civilsamhällets aktörer bidrar redan nu med ett stort stöd. De har dock inte alltid de resurser som krävs utan är i behov av stöd\, något vi under projektets gång kommer att arbeta mer med för att resurserna ska kunna nyttjas bättre. \nProjektet medfinansieras av Europeiska unionen. \n\n\n\n\n\n\nKontakt: \nLänsstyrelsen Dalarna\nValentina Söderberg –Projektledare\nvalentina.soderberg@lansstyrelsen.se
URL:https://navigatordalarna.com/event/tillsammans-for-ett-effektivare-mottagande-tem/
LOCATION:Dalarna
CATEGORIES:Dalarna,Säter,Smedjebacken,Vansbro
ATTACH;FMTTYPE=image/jpeg:https://navigatordalarna.com/wp-content/uploads/2026/01/tem-lansstyrelsen-e1770383093259.jpg
ORGANIZER;CN="L%C3%A4nsstyrelsen Dalarna":MAILTO:dalarna@lansstyrelsen.se
END:VEVENT
BEGIN:VEVENT
DTSTART;TZID=Europe/Stockholm:20260211T093000
DTEND;TZID=Europe/Stockholm:20260211T113000
DTSTAMP:20260422T152902
CREATED:20260121T092734Z
LAST-MODIFIED:20260123T135008Z
UID:394-1770802200-1770809400@navigatordalarna.com
SUMMARY:Läsa & skriva - start 14 januari 2026
DESCRIPTION:Vill du bli bättre på svenska? \n\nDen här kursen vänder sig till dig som vill träna på att prata\, läsa och skriva i en lugn och stödjande miljö. Under tio träffar arbetar vi tillsammans med det svenska språket genom övningar\, samtal och gemensam läsning. Vi fikar\, umgås och lär av varandra. \nKursinnehåll\n\nTräna muntlig svenska genom samtal\nLäsa kortare texter tillsammans\nSkriva enkla texter och få stöd i skrivandet\nÖva uttal och ordkunskap\nStärka självförtroendet i att använda svenska i vardagen\n\nTid: Onsdagar kl. 09.30–11.30\n10 tillfällen med start 14 januari 2026 \nPlats:\nABF/Studiefrämjandet Falun\nMagasinsgatan 27 \nCirkelledare: Gunilla Bohlin \nArrangör: kursen arrangeras av Studieförbundet ABF. \nÖvrigt: Vi bjuder på fika vid varje träff. \nKontakt:\nHar du frågor eller vill anmäla dig?\nusman.syed@abf.se
URL:https://navigatordalarna.com/event/lasa-skriva-start-14-januari-2026-3/
LOCATION:ABF Falun\, Magasinsgatan 27\, Falun\, Dalarna\, 79170
CATEGORIES:Dalarna,Falun
ATTACH;FMTTYPE=image/jpeg:https://navigatordalarna.com/wp-content/uploads/2026/01/Sprak-och-halsa-vt-2026-1.pdf-2-e1770383131974.jpg
ORGANIZER;CN="ABF Dalarna":MAILTO:gabriella.astrom@abf.se
END:VEVENT
BEGIN:VEVENT
DTSTART;TZID=Europe/Stockholm:20260211T093000
DTEND;TZID=Europe/Stockholm:20260211T113000
DTSTAMP:20260422T152902
CREATED:20260121T102908Z
LAST-MODIFIED:20260123T135014Z
UID:417-1770802200-1770809400@navigatordalarna.com
SUMMARY:Prata svenska - Konversationssvenska
DESCRIPTION:Är du asylsökande eller ny i Sverige och vill träna svenska i en trygg och välkomnande miljö?\nPrata svenska är en kurs där vi tillsammans övar svenska genom samtal\, fika och gemenskap. Du behöver inga förkunskaper – kom som du är! \n\nUnder tio träffar fokuserar vi på vardagssvenska\, uttal och enkla samtal som gör det lättare att använda språket i det dagliga livet. \nKursinnehåll\n\nTräna svenska genom samtal\nÖva uttal och bygga ordförråd\nFå stöd i att förstå och använda vardagliga fraser\nTräffa andra som också är nya i Sverige\nBygga trygghet i att prata svenska\n\nTid:\nOnsdagar kl. 09.30–11.30\n10 tillfällen med start 4 februari 2026 \n\nCirkelledare: Marita Öberg\n\nPlats:\nABF Dalarna\nMagasinsgatan 27\, Falun\n\n\nÖvrigt:\nKursen är gratis\nVi bjuder på fika.\n\nHar du frågor?\ngabriella.astrom@abf.se\n\nAnmälan: Läs mer och boka din plats här:\nhttps://www.abf.se/dalarna/kurs/konversationsvenska-navigator-dalarna-3899154/
URL:https://navigatordalarna.com/event/prata-svenska-start-4-feb-2026-2/
LOCATION:ABF Falun\, Magasinsgatan 27\, Falun\, Dalarna\, 79170
CATEGORIES:Dalarna,Falun
ATTACH;FMTTYPE=image/jpeg:https://navigatordalarna.com/wp-content/uploads/2026/01/01-Na-Fram-e1770383218269.jpg
ORGANIZER;CN="ABF Dalarna":MAILTO:gabriella.astrom@abf.se
END:VEVENT
BEGIN:VEVENT
DTSTART;TZID=Europe/Stockholm:20260211T130000
DTEND;TZID=Europe/Stockholm:20260211T150000
DTSTAMP:20260422T152902
CREATED:20260130T123828Z
LAST-MODIFIED:20260130T123828Z
UID:757-1770814800-1770822000@navigatordalarna.com
SUMMARY:Handarbetets lärande – språk\, gemenskap och hantverk
DESCRIPTION:Handarbetets lärande är en inspirerande och inkluderande aktivitet där språk och hantverk möts. \nGenom detta samarbete mellan ABF Dalarna och AME Avesta (Arbetsmarknadsenheten) får deltagare som är nya i Sverige möjlighet att lära sig svenska språket i en trygg och social miljö. \nUnder träffarna arbetar deltagarna med olika hantverk som de själva känner sig bekväma med. Samtalen och det gemensamma skapandet blir ett naturligt sätt att öva svenska\, lära känna varandra och bygga nya relationer. Verksamheten har utvecklats till en stark gemenskap där deltagarna snabbt förbättrat sina språkkunskaper\, fått nya vänner och tagit större plats i samhället och vardagslivet. \nAktiviteten riktar sig till personer som vill stärka sina kunskaper i svenska och samtidigt ta ett steg närmare samhälls- och arbetslivet. \nTid: Onsdagar kl. 13.00–15.00Plats: ABF Avesta\, Kungsgatan 29A\, 774 60 AvestaArrangörer: ABF Dalarna och AME AvestaKontakt: Emil Lantz (emil.lantz@abf.se)/Berit Jansson \nVarmt välkommen till en meningsfull mötesplats där språk\, kreativitet och gemenskap står i centrum!
URL:https://navigatordalarna.com/event/handarbetets-larande-sprak-gemenskap-och-hantverk-3/
LOCATION:ABF Avesta\, Kungsgatan 29A\, Avesta\, Dalarna\, 77431\, Sweden
CATEGORIES:Avesta,Dalarna
ATTACH;FMTTYPE=image/jpeg:https://navigatordalarna.com/wp-content/uploads/2026/01/Skrattar-ihop-foto-iStock.jpg-e1770382985152.jpg
ORGANIZER;CN="ABF Dalarna":MAILTO:gabriella.astrom@abf.se
END:VEVENT
BEGIN:VEVENT
DTSTART;TZID=Europe/Stockholm:20260211T160000
DTEND;TZID=Europe/Stockholm:20260211T183000
DTSTAMP:20260422T152902
CREATED:20260130T131946Z
LAST-MODIFIED:20260130T131946Z
UID:840-1770825600-1770834600@navigatordalarna.com
SUMMARY:Läxhjälp i Lingongårdens samlingssal\, Ludvika Gård (våren 2026)
DESCRIPTION:Välkommen till vår kostnadsfria läxhjälp i Lingongårdens samlingssal\, Ludvika Gård \nTa med din läxa så hjälper vi dig så gott vi kan. Dina föräldrar är också välkomna\, men vi kan inte ta hand om syskon som kommer till lokalen utan någon läxa. \nPlats: Lingongårdens samlingssal\, Ludvika Gård. \nTider: start kl 16:00Föräldrar är också välkomna att följa med. \nArrangörer: Detta är ett samarbete mellan Ludvika kommun\, Röda Korset Ludvika och IFK Ludvika Fotboll
URL:https://navigatordalarna.com/event/laxhjalp-i-lingongardens-samlingssal-ludvika-gard-varen-2026-2/
LOCATION:Dalarna
CATEGORIES:Dalarna,Ludvika
ATTACH;FMTTYPE=image/jpeg:https://navigatordalarna.com/wp-content/uploads/2026/01/pexels-kampus-6248420-e1770382950130.jpg
ORGANIZER;CN="R%C3%B6da korset Ludvika":MAILTO:ludvika@redcross.se
END:VEVENT
BEGIN:VEVENT
DTSTART;TZID=Europe/Stockholm:20260211T170000
DTEND;TZID=Europe/Stockholm:20260211T190000
DTSTAMP:20260422T152902
CREATED:20260130T133035Z
LAST-MODIFIED:20260130T133035Z
UID:845-1770829200-1770836400@navigatordalarna.com
SUMMARY:Språkcafé - mötesplats kupan (våren 2026)
DESCRIPTION:Språkcaféet startar igen – välkommen den 14 januari! \n\nOnsdag 14 januari drar vi igång vårens omgång av Språkcaféet.\nTid: 17.00–19.00\nPlats: Röda Korsets mötesplats Kupan \nSpråkcaféet är en öppen och välkomnande mötesplats där vi tillsammans tränar svenska över en kopp kaffe och trevliga samtal. Oavsett om du är ny i Sverige eller bara vill öva språket i en avslappnad miljö är du varmt välkommen. \nVälkommen att vara med! \n\nArrangörer:  Röda Korset Ludvika
URL:https://navigatordalarna.com/event/sprakcafe-motesplats-kupan-varen-2026-2/
LOCATION:Röda korset Ludvika\, mötesplats kupan\, Timmermansvägen 1\, Ludvika\, Dalarna\, 77152\, Sweden
CATEGORIES:Dalarna,Ludvika
ATTACH;FMTTYPE=image/jpeg:https://navigatordalarna.com/wp-content/uploads/2026/01/Namnlos-Design-1-kopia-e1770383371917.jpg
ORGANIZER;CN="R%C3%B6da korset Ludvika":MAILTO:ludvika@redcross.se
END:VEVENT
END:VCALENDAR