BEGIN:VCALENDAR
VERSION:2.0
PRODID:-//Navigator Dalarna - ECPv6.15.17.1//NONSGML v1.0//EN
CALSCALE:GREGORIAN
METHOD:PUBLISH
X-WR-CALNAME:Navigator Dalarna
X-ORIGINAL-URL:https://navigatordalarna.com
X-WR-CALDESC:Händelser för Navigator Dalarna
REFRESH-INTERVAL;VALUE=DURATION:PT1H
X-Robots-Tag:noindex
X-PUBLISHED-TTL:PT1H
BEGIN:VTIMEZONE
TZID:Europe/Stockholm
BEGIN:DAYLIGHT
TZOFFSETFROM:+0100
TZOFFSETTO:+0200
TZNAME:CEST
DTSTART:20230326T010000
END:DAYLIGHT
BEGIN:STANDARD
TZOFFSETFROM:+0200
TZOFFSETTO:+0100
TZNAME:CET
DTSTART:20231029T010000
END:STANDARD
BEGIN:DAYLIGHT
TZOFFSETFROM:+0100
TZOFFSETTO:+0200
TZNAME:CEST
DTSTART:20240331T010000
END:DAYLIGHT
BEGIN:STANDARD
TZOFFSETFROM:+0200
TZOFFSETTO:+0100
TZNAME:CET
DTSTART:20241027T010000
END:STANDARD
BEGIN:DAYLIGHT
TZOFFSETFROM:+0100
TZOFFSETTO:+0200
TZNAME:CEST
DTSTART:20250330T010000
END:DAYLIGHT
BEGIN:STANDARD
TZOFFSETFROM:+0200
TZOFFSETTO:+0100
TZNAME:CET
DTSTART:20251026T010000
END:STANDARD
BEGIN:DAYLIGHT
TZOFFSETFROM:+0100
TZOFFSETTO:+0200
TZNAME:CEST
DTSTART:20260329T010000
END:DAYLIGHT
BEGIN:STANDARD
TZOFFSETFROM:+0200
TZOFFSETTO:+0100
TZNAME:CET
DTSTART:20261025T010000
END:STANDARD
BEGIN:DAYLIGHT
TZOFFSETFROM:+0100
TZOFFSETTO:+0200
TZNAME:CEST
DTSTART:20270328T010000
END:DAYLIGHT
BEGIN:STANDARD
TZOFFSETFROM:+0200
TZOFFSETTO:+0100
TZNAME:CET
DTSTART:20271031T010000
END:STANDARD
END:VTIMEZONE
BEGIN:VEVENT
DTSTART;TZID=Europe/Stockholm:20240101T080000
DTEND;TZID=Europe/Stockholm:20261231T170000
DTSTAMP:20260420T103926
CREATED:20260122T102647Z
LAST-MODIFIED:20260123T135122Z
UID:516-1704096000-1798736400@navigatordalarna.com
SUMMARY:Tillsammans för ett effektivare mottagande (TEM)
DESCRIPTION:Projektets målsättning är att skapa ett resilient mottagande i småkommuner i Dalarna genom tidiga insatser och bred samverkan mellan offentlig sektor och civilsamhället. Det innebär att vi i Dalarna ska skapa förutsättningar för de flyktingar som lever i Dalarna att integreras i samhället. Vi ska även ha kapacitet och förmåga att klara av de variationer som är i flyktingmottagandet. \n\n\n\n\nProjektet ägs av Länsstyrelsen i Dalarnas län och genomförs i samarbete med Vansbro kommun\, Säters kommun\, Smedjebackens kommun och Falun-Borlänge Regionen. Projektet sträcker sig från 1 januari 2024 till 31 december 2026 och medfinansieras med medel från Europeiska unionen. \n\n\n\n\nVad ska göras inom projektet?\nInom projektet genomförs insatser riktade mot framför allt: \n\npersoner som är asylsökande\npersoner från Ukraina som lyder under massflyktsdirektivet\nKVOT/ABO flyktingar som har fått uppehållstillstånd och befunnit sig i Sverige i mindre än tre år. Insatserna utgår från individens behov och kan bestå av till exempel utbildningar för att öka den digitala kompetensen\, arbetsmarknadskunskap\, språkundervisning eller hälsofrämjande insatser.\n\nInsatserna kan bestå av till exempel utbildningar för att öka den digitala kompetensen\, arbetsmarknadskunskap\, språkundervisning eller hälsofrämjande insatser. Det kan också handla om att utbilda och engagera flyktingguider som kan bidra med social trygghet. \nSamhällsorientering för nyanlända \nProjektet ska också anordna kompetenshöjande insatser för att höja kunskap och stärka samverkan. Dessa insatser riktar sig främst till: \n\noffentligt anställda som möter målgruppen\noch personer som är engagerade inom civilsamhället.\n\nInsatserna riktar sig till personer bosatta eller verksamma i Dalarnas län med särskild fokus på pilotkommunerna Vansbro\, Säter och Smedjebacken. \nVarför genomförs projektet?\nProjektet genomförs då man identifierat att det saknas förutsättningar för att ta emot och genomföra önskvärda insatser för mottagande i Dalarna. Det beror bland annat på knapp ekonomiska resurser och att lagstadgade verksamhet prioriteras framför förebyggande verksamhet. Genom förebyggande verksamhet\, bland annat de insatser som ska genomföras inom projektet\, kan man skapa ett effektivare mottagande både för individen och samhället. \nEtt annat problem som identifierats är att behoven för mottagande varierar över tid\, både gällande antalet flyktingar som kommer till Dalarna och att förutsättningarna skiljer sig åt för de personer som kommer. I Dalarna har vi också stora geografiska avstånd vilket försvårar samverkan kring mottagande och insatser. Inom projektet är målsättningen att skapa bättre förutsättningar att hantera variationer över tid och långsiktig samverkan mellan aktörer i länet. \nEn stor resurs när det kommer till ett resilient mottagande är civilsamhället. Det finns en stor kraft i civilsamhällets engagemang och många av civilsamhällets aktörer bidrar redan nu med ett stort stöd. De har dock inte alltid de resurser som krävs utan är i behov av stöd\, något vi under projektets gång kommer att arbeta mer med för att resurserna ska kunna nyttjas bättre. \nProjektet medfinansieras av Europeiska unionen. \n\n\n\n\n\n\nKontakt: \nLänsstyrelsen Dalarna\nValentina Söderberg –Projektledare\nvalentina.soderberg@lansstyrelsen.se
URL:https://navigatordalarna.com/event/tillsammans-for-ett-effektivare-mottagande-tem/
LOCATION:Dalarna
CATEGORIES:Dalarna,Säter,Smedjebacken,Vansbro
ATTACH;FMTTYPE=image/jpeg:https://navigatordalarna.com/wp-content/uploads/2026/01/tem-lansstyrelsen-e1770383093259.jpg
ORGANIZER;CN="L%C3%A4nsstyrelsen Dalarna":MAILTO:dalarna@lansstyrelsen.se
END:VEVENT
BEGIN:VEVENT
DTSTART;TZID=Europe/Stockholm:20260212T123000
DTEND;TZID=Europe/Stockholm:20260612T150000
DTSTAMP:20260420T103926
CREATED:20260116T124333Z
LAST-MODIFIED:20260123T135002Z
UID:111-1770899400-1781276400@navigatordalarna.com
SUMMARY:Språk och Hälsa våren 2026
DESCRIPTION:Lär dig vardagssvenska med fysisk och mental träning \nTorsdagar och fredagar klockan 12.30–15.00 på ABF \nVi är lediga: Den 2 april\, 3 april\, 30 april\, 1 maj\, 14 maj och 15 maj på grund av halvdagar och röda dagar.\nLedare\nNadia Holma\, anställd på ABF och utbildad yogalärare\nSheyma Sheiknur\, certifierad mental coach och utbildningsledare \nMax 10 deltagare. \nAnmäl dig via e-post till: nadia.holma@abf.se eller via sms till: 073-828 64 29. Det är gratis att delta. \nVälkommen att anmäla dig! \nAnmälan\nDe här aktiviteterna ingår i Språk och hälsa\, ett projekt som delfinansieras av Länsstyrelsen Dalarna under 2026.\nVerksamheten är en samverkan mellan Falu kommun (Arbetslivs-och socialförvaltningen)\, ABF Dalarna och RF\nSISU Dalarna.
URL:https://navigatordalarna.com/event/sprak-och-halsa-varen-2026/
LOCATION:ABF Falun\, Magasinsgatan 27\, Falun\, Dalarna\, 79170
CATEGORIES:Dalarna,Falun
ATTACH;FMTTYPE=image/jpeg:https://navigatordalarna.com/wp-content/uploads/2026/01/Sprak-och-halsa-vt-2026-1.pdf-e1770383204641.jpg
ORGANIZER;CN="ABF Dalarna":MAILTO:gabriella.astrom@abf.se
END:VEVENT
BEGIN:VEVENT
DTSTART;TZID=Europe/Stockholm:20260401T080000
DTEND;TZID=Europe/Stockholm:20261031T170000
DTSTAMP:20260420T103926
CREATED:20260120T142551Z
LAST-MODIFIED:20260123T134640Z
UID:333-1775030400-1793466000@navigatordalarna.com
SUMMARY:Odla för mångfald
DESCRIPTION:Välkommen till Odla för mångfald – en gemensam odlingsverksamhet som skapar mötesplatser där människor från olika länder kan lära\, odla och växa tillsammans. Här får du möjlighet att dela odlingsglädje\, erfarenheter och kulturer i en varm och inkluderande miljö. \n\nOdla för mångfald drivs av Orsa för mångfald och är en del av föreningens arbete för att stärka integration\, gemenskap och hållbarhet i Orsa. Genom odlingen skapas naturliga möten mellan nysvenskar och ortsbor – oavsett odlingsvana. \nNär?\nMaj–september\n(Ibland från april och ända till oktober beroende på väder.) \nVar?\nCentralt i Orsa\nOdlingsytor där deltagarna tillsammans planterar\, sköter och skördar. \nFör vem?\nAlla som vill odla tillsammans – nysvenskar och kommuninvånare som är nyfikna på nya möten\, kunskaper och kulturer. \nVarför vara med?\n\nOdla grönsaker\, blommor och idéer tillsammans\nLär dig mer om odling från andra och dela dina egna kunskaper\nSkapa nya kontakter och möten över språk- och kulturgränser\nNjut av frisk luft\, gemenskap och hållbarhet i praktiken\n\nArrangör\nOrsa för mångfald\nSamarbetar med Orsa församling\, Rädda Barnen\, Orsa bibliotek och kulturföreningen Lyran och Orsa Kommun. \nKontaktperson: Malena Gillgren\nFacebook: Orsa för mångfald / Odla för mångfald
URL:https://navigatordalarna.com/event/odla-for-mangfald/
LOCATION:Orsa
CATEGORIES:Dalarna,Orsa
ATTACH;FMTTYPE=image/jpeg:https://navigatordalarna.com/wp-content/uploads/2026/01/Odla-for-mangfald-e1770383145897.jpg
END:VEVENT
BEGIN:VEVENT
DTSTART;TZID=Europe/Stockholm:20260414T093000
DTEND;TZID=Europe/Stockholm:20260414T114500
DTSTAMP:20260420T103926
CREATED:20260206T145434Z
LAST-MODIFIED:20260206T145434Z
UID:939-1776159000-1776167100@navigatordalarna.com
SUMMARY:Samhällskunskap och Gemenskap (vt 2026)
DESCRIPTION:Den här studiecirkeln vänder sig till dig som vill lära dig mer om Sverige och hur samhället fungerar. Under cirkelns gång får du även möjlighet att träffa nya människor\, utbyta erfarenheter och öva på att prata svenska i en trygg och social miljö. \nVi kommer diskutera grundläggande kunskap om det svenska vardagslivet\, arbetsmarknaden\, utbildningssystemet och andra viktiga samhällsfunktioner. \n\nDu får lära dig om:\n\nDet svenska samhällets uppbyggnad och funktioner\nArbete\, utbildning och vägar vidare för framtiden\nSvenska vardagsrutiner\, normer och praktisk information\nSpråkträning genom samtal och gruppaktiviteter\n\nPraktisk information\n\nTid: Tisdagar kl. 09.30–11.45\nStartdatum: 17 februari\nPlats: ABF Falun\, Magasinsgatan 27\nCirkelledare: Hans Eriksson\nKontakt: Usman.Syed@abf.se
URL:https://navigatordalarna.com/event/samhallskunskap-och-gemenskap-vt-2026-8/
LOCATION:ABF Falun\, Magasinsgatan 27\, Falun\, Dalarna\, 79170
CATEGORIES:Dalarna,Falun
ATTACH;FMTTYPE=image/jpeg:https://navigatordalarna.com/wp-content/uploads/2026/01/samsung-uk-d9jiWu7Q90Q-unsplash-e1770382156678.jpg
ORGANIZER;CN="ABF Dalarna":MAILTO:gabriella.astrom@abf.se
END:VEVENT
BEGIN:VEVENT
DTSTART;TZID=Europe/Stockholm:20260414T130000
DTEND;TZID=Europe/Stockholm:20260414T143000
DTSTAMP:20260420T103926
CREATED:20260122T093741Z
LAST-MODIFIED:20260123T135129Z
UID:487-1776171600-1776177000@navigatordalarna.com
SUMMARY:Hemberedskap på lätt svenska - vt 2026
DESCRIPTION:Om kursen: Lär dig hur du och din familj kan klara er vid en kris\, såsom strömavbrott eller oväder.\nUnder cirkeln går vi igenom hur du förbereder mat\, vatten\, värme\, kommunikation och hygien/första hjälpen.\nDu får också kunskap om hur du gör en egen krislåda för att kunna klara dig minst en vecka – både praktiskt och socialt. \n\nDatum: Tisdagar\, 17 februari\, 3 mars\, 17 mars\, 31 mars\, 14 april\, 28 april \nTid: 13.00–14.30 \nPlats: Dahlander Kunskapscentrum \nLedare: Pirjo Gustafsson \nÖvrigt:\n\nCirkeln startar vid minst 4 anmälda.\nIngen deltagaravgift – alla är välkomna!\nLäs mer och anmäl dig på sv.se (Arr nr 63743) eller ring 0243‑82080.\n\nStudieförbundet Vuxenskolan – Arr nr 63743
URL:https://navigatordalarna.com/event/hemberedskap-pa-latt-svenska-vt-2026-5/
LOCATION:Dahlanders Kunskapscenter\, Jönshyttevägen 4\, Säter\, Dalarna\, 78332\, Sweden
CATEGORIES:Dalarna,Säter
ATTACH;FMTTYPE=image/jpeg:https://navigatordalarna.com/wp-content/uploads/2026/01/Hemberedskap_vuxenskolan-e1770383115325.jpeg
ORGANIZER;CN="Studief%C3%B6rbundet vuxenskolan":MAILTO:dalarna@sv.se
END:VEVENT
BEGIN:VEVENT
DTSTART;TZID=Europe/Stockholm:20260414T143000
DTEND;TZID=Europe/Stockholm:20260414T173000
DTSTAMP:20260420T103926
CREATED:20260120T130415Z
LAST-MODIFIED:20260206T122708Z
UID:254-1776177000-1776187800@navigatordalarna.com
SUMMARY:Språkcafé och Läxhjälp med Internationella kvinnoföreningen Falun
DESCRIPTION:På Internationella kvinnoföreningens (IKF) språkcafé och läxhjälp kan du träna tala svenska och träffa nya vänner. \nVi brukar bland annat ha högläsning\, gympa med musik\, fika och läxhjälp. \nFör deltagandet i Språkcafé och Läxhjälp krävs att man blir medlem i Internationella kvinnoföreningen och har betalat en medlemsavgift på 100 kr (En gång per år). \nVi ses varje tisdag kl 14.30-17.30 på Magasinsgatan 27 i Falun ( Studiefrämjandet och ABF:s lokaler). \nVarje tisdag med start 13 januari 2026. \n  \n 
URL:https://navigatordalarna.com/event/sprakcafe-och-laxhjalp-med-internationella-kvinnoforeningen-falun-13/
LOCATION:Studiefrämjandet Mitt\, Magasinsgatan 27\, Falun\, Dalarna\, 79170
CATEGORIES:Dalarna,Falun
ATTACH;FMTTYPE=image/jpeg:https://navigatordalarna.com/wp-content/uploads/2026/01/IKF-Falun-e1770382338714.jpg
ORGANIZER;CN="Internationella Kvinnof%C3%B6reingen Falun":MAILTO:ikf.falun@gmail.com
END:VEVENT
BEGIN:VEVENT
DTSTART;TZID=Europe/Stockholm:20260414T160000
DTEND;TZID=Europe/Stockholm:20260414T160000
DTSTAMP:20260420T103926
CREATED:20260130T130327Z
LAST-MODIFIED:20260130T130327Z
UID:817-1776182400-1776182400@navigatordalarna.com
SUMMARY:Läxhjälp i Marnäs (våren 2026)
DESCRIPTION:Välkommen till vår kostnadsfria läxhjälp i Marnäs! \nVälkommen med din läxa så hjälper vi dig så gott vi kan. DIna föräldrar är också välkomna\, men vi kan inte ta hand om syskon som kommer till lokalen utan någon läxa. \nPlats: F.d. Hillängens förskola\, Grågåsvägen 5\, Marnäs (Ludvika) \nTider:\n\n16:00–17:00 – Årskurs 1–6\n17:00–18:30 – Äldre elever\n\nFöräldrar är också välkomna att följa med. \nKontakt:\n\nJan Anger: 0240‑19891\, 076‑191 90 32\, jan.anger@me.com\nAlexander Elzén: 073‑61 04 038\, alexander.elzen@vbu.ludvika.se\n\nArrangörer: Svenska Röda Korset – Ludvikakretsen\, Ludvika kommun och IFK Ludvika Fotboll
URL:https://navigatordalarna.com/event/laxhjalp-i-marnas-varen-2026-11/
LOCATION:Hillängens förskola\, Grågåsvägen 5\, Marnäs\, Dalarna\, 77152\, Sweden
CATEGORIES:Dalarna,Ludvika
ATTACH;FMTTYPE=image/jpeg:https://navigatordalarna.com/wp-content/uploads/2026/01/pexels-pixabay-256468-e1770382966235.jpg
ORGANIZER;CN="R%C3%B6da korset Ludvika":MAILTO:ludvika@redcross.se
END:VEVENT
END:VCALENDAR