BEGIN:VCALENDAR
VERSION:2.0
PRODID:-//Navigator Dalarna - ECPv6.15.17.1//NONSGML v1.0//EN
CALSCALE:GREGORIAN
METHOD:PUBLISH
X-ORIGINAL-URL:https://navigatordalarna.com
X-WR-CALDESC:Händelser för Navigator Dalarna
REFRESH-INTERVAL;VALUE=DURATION:PT1H
X-Robots-Tag:noindex
X-PUBLISHED-TTL:PT1H
BEGIN:VTIMEZONE
TZID:Europe/Stockholm
BEGIN:DAYLIGHT
TZOFFSETFROM:+0100
TZOFFSETTO:+0200
TZNAME:CEST
DTSTART:20250330T010000
END:DAYLIGHT
BEGIN:STANDARD
TZOFFSETFROM:+0200
TZOFFSETTO:+0100
TZNAME:CET
DTSTART:20251026T010000
END:STANDARD
BEGIN:DAYLIGHT
TZOFFSETFROM:+0100
TZOFFSETTO:+0200
TZNAME:CEST
DTSTART:20260329T010000
END:DAYLIGHT
BEGIN:STANDARD
TZOFFSETFROM:+0200
TZOFFSETTO:+0100
TZNAME:CET
DTSTART:20261025T010000
END:STANDARD
BEGIN:DAYLIGHT
TZOFFSETFROM:+0100
TZOFFSETTO:+0200
TZNAME:CEST
DTSTART:20270328T010000
END:DAYLIGHT
BEGIN:STANDARD
TZOFFSETFROM:+0200
TZOFFSETTO:+0100
TZNAME:CET
DTSTART:20271031T010000
END:STANDARD
END:VTIMEZONE
BEGIN:VEVENT
DTSTART;TZID=Europe/Stockholm:20260505T143000
DTEND;TZID=Europe/Stockholm:20260505T173000
DTSTAMP:20260420T141801
CREATED:20260120T130505Z
LAST-MODIFIED:20260206T130031Z
UID:260-1777991400-1778002200@navigatordalarna.com
SUMMARY:Språkcafé och Läxhjälp med Internationella kvinnoföreningen Falun
DESCRIPTION:På Internationella kvinnoföreningens (IKF) språkcafé och läxhjälp kan du träna tala svenska och träffa nya vänner. \nVi brukar bland annat ha högläsning\, gympa med musik\, fika och läxhjälp. \nFör deltagandet i Språkcafé och Läxhjälp krävs att man blir medlem i Internationella kvinnoföreningen och har betalat en medlemsavgift på 100 kr (En gång per år). \nVi ses varje tisdag kl 14.30-17.30 på Magasinsgatan 27 i Falun ( Studiefrämjandet och ABF:s lokaler). \nVarje tisdag med start 13 januari 2026. \n  \n 
URL:https://navigatordalarna.com/event/sprakcafe-och-laxhjalp-med-internationella-kvinnoforeningen-falun-16/
LOCATION:Studiefrämjandet Mitt\, Magasinsgatan 27\, Falun\, Dalarna\, 79170
CATEGORIES:Dalarna,Falun
ATTACH;FMTTYPE=image/jpeg:https://navigatordalarna.com/wp-content/uploads/2026/01/IKF-Falun-e1770382338714.jpg
ORGANIZER;CN="Internationella Kvinnof%C3%B6reingen Falun":MAILTO:ikf.falun@gmail.com
END:VEVENT
BEGIN:VEVENT
DTSTART;TZID=Europe/Stockholm:20260512T143000
DTEND;TZID=Europe/Stockholm:20260512T173000
DTSTAMP:20260420T141801
CREATED:20260120T130520Z
LAST-MODIFIED:20260206T130001Z
UID:262-1778596200-1778607000@navigatordalarna.com
SUMMARY:Språkcafé och Läxhjälp med Internationella kvinnoföreningen Falun
DESCRIPTION:På Internationella kvinnoföreningens (IKF) språkcafé och läxhjälp kan du träna tala svenska och träffa nya vänner. \nVi brukar bland annat ha högläsning\, gympa med musik\, fika och läxhjälp. \nFör deltagandet i Språkcafé och Läxhjälp krävs att man blir medlem i Internationella kvinnoföreningen och har betalat en medlemsavgift på 100 kr (En gång per år). \nVi ses varje tisdag kl 14.30-17.30 på Magasinsgatan 27 i Falun ( Studiefrämjandet och ABF:s lokaler). \nVarje tisdag med start 13 januari 2026. \n  \n 
URL:https://navigatordalarna.com/event/sprakcafe-och-laxhjalp-med-internationella-kvinnoforeningen-falun-17/
LOCATION:Studiefrämjandet Mitt\, Magasinsgatan 27\, Falun\, Dalarna\, 79170
CATEGORIES:Dalarna,Falun
ATTACH;FMTTYPE=image/jpeg:https://navigatordalarna.com/wp-content/uploads/2026/01/IKF-Falun-e1770382338714.jpg
ORGANIZER;CN="Internationella Kvinnof%C3%B6reingen Falun":MAILTO:ikf.falun@gmail.com
END:VEVENT
BEGIN:VEVENT
DTSTART;TZID=Europe/Stockholm:20260519T143000
DTEND;TZID=Europe/Stockholm:20260519T173000
DTSTAMP:20260420T141801
CREATED:20260120T130535Z
LAST-MODIFIED:20260206T125937Z
UID:264-1779201000-1779211800@navigatordalarna.com
SUMMARY:Språkcafé och Läxhjälp med Internationella kvinnoföreningen Falun
DESCRIPTION:På Internationella kvinnoföreningens (IKF) språkcafé och läxhjälp kan du träna tala svenska och träffa nya vänner. \nVi brukar bland annat ha högläsning\, gympa med musik\, fika och läxhjälp. \nFör deltagandet i Språkcafé och Läxhjälp krävs att man blir medlem i Internationella kvinnoföreningen och har betalat en medlemsavgift på 100 kr (En gång per år). \nVi ses varje tisdag kl 14.30-17.30 på Magasinsgatan 27 i Falun ( Studiefrämjandet och ABF:s lokaler). \nVarje tisdag med start 13 januari 2026. \n  \n 
URL:https://navigatordalarna.com/event/sprakcafe-och-laxhjalp-med-internationella-kvinnoforeningen-falun-18/
LOCATION:Studiefrämjandet Mitt\, Magasinsgatan 27\, Falun\, Dalarna\, 79170
CATEGORIES:Dalarna,Falun
ATTACH;FMTTYPE=image/jpeg:https://navigatordalarna.com/wp-content/uploads/2026/01/IKF-Falun-e1770382338714.jpg
ORGANIZER;CN="Internationella Kvinnof%C3%B6reingen Falun":MAILTO:ikf.falun@gmail.com
END:VEVENT
BEGIN:VEVENT
DTSTART;TZID=Europe/Stockholm:20260526T143000
DTEND;TZID=Europe/Stockholm:20260526T173000
DTSTAMP:20260420T141801
CREATED:20260120T130553Z
LAST-MODIFIED:20260206T125846Z
UID:266-1779805800-1779816600@navigatordalarna.com
SUMMARY:Språkcafé och Läxhjälp med Internationella kvinnoföreningen Falun
DESCRIPTION:På Internationella kvinnoföreningens (IKF) språkcafé och läxhjälp kan du träna tala svenska och träffa nya vänner. \nVi brukar bland annat ha högläsning\, gympa med musik\, fika och läxhjälp. \nFör deltagandet i Språkcafé och Läxhjälp krävs att man blir medlem i Internationella kvinnoföreningen och har betalat en medlemsavgift på 100 kr (En gång per år). \nVi ses varje tisdag kl 14.30-17.30 på Magasinsgatan 27 i Falun ( Studiefrämjandet och ABF:s lokaler). \nVarje tisdag med start 13 januari 2026. \n  \n 
URL:https://navigatordalarna.com/event/sprakcafe-och-laxhjalp-med-internationella-kvinnoforeningen-falun-19/
LOCATION:Studiefrämjandet Mitt\, Magasinsgatan 27\, Falun\, Dalarna\, 79170
CATEGORIES:Dalarna,Falun
ATTACH;FMTTYPE=image/jpeg:https://navigatordalarna.com/wp-content/uploads/2026/01/IKF-Falun-e1770382338714.jpg
ORGANIZER;CN="Internationella Kvinnof%C3%B6reingen Falun":MAILTO:ikf.falun@gmail.com
END:VEVENT
END:VCALENDAR