BEGIN:VCALENDAR
VERSION:2.0
PRODID:-//Navigator Dalarna - ECPv6.15.17.1//NONSGML v1.0//EN
CALSCALE:GREGORIAN
METHOD:PUBLISH
X-WR-CALNAME:Navigator Dalarna
X-ORIGINAL-URL:https://navigatordalarna.com
X-WR-CALDESC:Händelser för Navigator Dalarna
REFRESH-INTERVAL;VALUE=DURATION:PT1H
X-Robots-Tag:noindex
X-PUBLISHED-TTL:PT1H
BEGIN:VTIMEZONE
TZID:Europe/Stockholm
BEGIN:DAYLIGHT
TZOFFSETFROM:+0100
TZOFFSETTO:+0200
TZNAME:CEST
DTSTART:20250330T010000
END:DAYLIGHT
BEGIN:STANDARD
TZOFFSETFROM:+0200
TZOFFSETTO:+0100
TZNAME:CET
DTSTART:20251026T010000
END:STANDARD
BEGIN:DAYLIGHT
TZOFFSETFROM:+0100
TZOFFSETTO:+0200
TZNAME:CEST
DTSTART:20260329T010000
END:DAYLIGHT
BEGIN:STANDARD
TZOFFSETFROM:+0200
TZOFFSETTO:+0100
TZNAME:CET
DTSTART:20261025T010000
END:STANDARD
BEGIN:DAYLIGHT
TZOFFSETFROM:+0100
TZOFFSETTO:+0200
TZNAME:CEST
DTSTART:20270328T010000
END:DAYLIGHT
BEGIN:STANDARD
TZOFFSETFROM:+0200
TZOFFSETTO:+0100
TZNAME:CET
DTSTART:20271031T010000
END:STANDARD
END:VTIMEZONE
BEGIN:VEVENT
DTSTART;TZID=Europe/Stockholm:20260602T160000
DTEND;TZID=Europe/Stockholm:20260602T160000
DTSTAMP:20260420T122926
CREATED:20260130T130601Z
LAST-MODIFIED:20260130T130601Z
UID:831-1780416000-1780416000@navigatordalarna.com
SUMMARY:Läxhjälp i Marnäs (våren 2026)
DESCRIPTION:Välkommen till vår kostnadsfria läxhjälp i Marnäs! \nVälkommen med din läxa så hjälper vi dig så gott vi kan. DIna föräldrar är också välkomna\, men vi kan inte ta hand om syskon som kommer till lokalen utan någon läxa. \nPlats: F.d. Hillängens förskola\, Grågåsvägen 5\, Marnäs (Ludvika) \nTider:\n\n16:00–17:00 – Årskurs 1–6\n17:00–18:30 – Äldre elever\n\nFöräldrar är också välkomna att följa med. \nKontakt:\n\nJan Anger: 0240‑19891\, 076‑191 90 32\, jan.anger@me.com\nAlexander Elzén: 073‑61 04 038\, alexander.elzen@vbu.ludvika.se\n\nArrangörer: Svenska Röda Korset – Ludvikakretsen\, Ludvika kommun och IFK Ludvika Fotboll
URL:https://navigatordalarna.com/event/laxhjalp-i-marnas-varen-2026-18/
LOCATION:Hillängens förskola\, Grågåsvägen 5\, Marnäs\, Dalarna\, 77152\, Sweden
CATEGORIES:Dalarna,Ludvika
ATTACH;FMTTYPE=image/jpeg:https://navigatordalarna.com/wp-content/uploads/2026/01/pexels-pixabay-256468-e1770382966235.jpg
ORGANIZER;CN="R%C3%B6da korset Ludvika":MAILTO:ludvika@redcross.se
END:VEVENT
BEGIN:VEVENT
DTSTART;TZID=Europe/Stockholm:20260603T100000
DTEND;TZID=Europe/Stockholm:20260603T123000
DTSTAMP:20260420T122926
CREATED:20260219T135138Z
LAST-MODIFIED:20260219T135138Z
UID:1082-1780480800-1780489800@navigatordalarna.com
SUMMARY:Prata och Sy – Språk och sömnadsträning i gemenskap
DESCRIPTION:Om verksamheten\nPrata och Sy är en öppen och inkluderande grupp för alla som vill träna svenska språket i kombination med praktiskt skapande. Deltagarna ges möjlighet att samtala på svenska\, få stöd i sina språkstudier samt sy eller laga kläder. Gruppen har funnits i flera år och är en etablerad del av Röda Korsets verksamhet i Ludvika.\n\n\nArrangör: Röda Korset\, Ludvika\nPlats: Röda Korsets mötesplats Kupan\, Ludvika\nTid: Onsdagar kl. 10.00–12.30\nPeriod: Verksamheten följer skolterminerna i Ludvika kommun (vårtermin och hösttermin enligt kommunens läsårstider)\n\nUpplägg\nTräffarna hålls varje onsdag förmiddag under skolterminerna.\n\n\nKl. 10.00–12.30: Språkträning\, läxhjälp och sömnadsarbete\, vi avslutar med gemensam fika.\n\n\nGruppen erbjuder en trygg mötesplats för språkutveckling och social gemenskap utanför hemmet.\n\nBra att veta: \nMaterial till enklare projekt\, såsom förkläde\, örngott och väska\, tillhandahålls av Röda Korset. Av säkerhetsskäl (symaskiner\, saxar\, nålar med mera) rekommenderas att barn inte deltar i verksamheten. Gruppen leds av frivilligledare inom Röda Korset och bemannas för närvarande av fyra ledare\, med ytterligare en ledare på väg in i verksamheten.”
URL:https://navigatordalarna.com/event/prata-och-sy-sprak-och-somnadstraning-i-gemenskap-15/
LOCATION:Röda korset Ludvika\, mötesplats kupan\, Timmermansvägen 1\, Ludvika\, Dalarna\, 77152\, Sweden
CATEGORIES:Dalarna,Ludvika
ATTACH;FMTTYPE=image/jpeg:https://navigatordalarna.com/wp-content/uploads/2026/01/Sy-Hantverk-handarbete-slojd-e1770383002457.jpg
ORGANIZER;CN="R%C3%B6da korset Ludvika":MAILTO:ludvika@redcross.se
END:VEVENT
BEGIN:VEVENT
DTSTART;TZID=Europe/Stockholm:20260610T100000
DTEND;TZID=Europe/Stockholm:20260610T123000
DTSTAMP:20260420T122926
CREATED:20260219T135153Z
LAST-MODIFIED:20260219T135153Z
UID:1084-1781085600-1781094600@navigatordalarna.com
SUMMARY:Prata och Sy – Språk och sömnadsträning i gemenskap
DESCRIPTION:Om verksamheten\nPrata och Sy är en öppen och inkluderande grupp för alla som vill träna svenska språket i kombination med praktiskt skapande. Deltagarna ges möjlighet att samtala på svenska\, få stöd i sina språkstudier samt sy eller laga kläder. Gruppen har funnits i flera år och är en etablerad del av Röda Korsets verksamhet i Ludvika.\n\n\nArrangör: Röda Korset\, Ludvika\nPlats: Röda Korsets mötesplats Kupan\, Ludvika\nTid: Onsdagar kl. 10.00–12.30\nPeriod: Verksamheten följer skolterminerna i Ludvika kommun (vårtermin och hösttermin enligt kommunens läsårstider)\n\nUpplägg\nTräffarna hålls varje onsdag förmiddag under skolterminerna.\n\n\nKl. 10.00–12.30: Språkträning\, läxhjälp och sömnadsarbete\, vi avslutar med gemensam fika.\n\n\nGruppen erbjuder en trygg mötesplats för språkutveckling och social gemenskap utanför hemmet.\n\nBra att veta: \nMaterial till enklare projekt\, såsom förkläde\, örngott och väska\, tillhandahålls av Röda Korset. Av säkerhetsskäl (symaskiner\, saxar\, nålar med mera) rekommenderas att barn inte deltar i verksamheten. Gruppen leds av frivilligledare inom Röda Korset och bemannas för närvarande av fyra ledare\, med ytterligare en ledare på väg in i verksamheten.”
URL:https://navigatordalarna.com/event/prata-och-sy-sprak-och-somnadstraning-i-gemenskap-16/
LOCATION:Röda korset Ludvika\, mötesplats kupan\, Timmermansvägen 1\, Ludvika\, Dalarna\, 77152\, Sweden
CATEGORIES:Dalarna,Ludvika
ATTACH;FMTTYPE=image/jpeg:https://navigatordalarna.com/wp-content/uploads/2026/01/Sy-Hantverk-handarbete-slojd-e1770383002457.jpg
ORGANIZER;CN="R%C3%B6da korset Ludvika":MAILTO:ludvika@redcross.se
END:VEVENT
END:VCALENDAR