BEGIN:VCALENDAR
VERSION:2.0
PRODID:-//Navigator Dalarna - ECPv6.15.17.1//NONSGML v1.0//EN
CALSCALE:GREGORIAN
METHOD:PUBLISH
X-ORIGINAL-URL:https://navigatordalarna.com
X-WR-CALDESC:Händelser för Navigator Dalarna
REFRESH-INTERVAL;VALUE=DURATION:PT1H
X-Robots-Tag:noindex
X-PUBLISHED-TTL:PT1H
BEGIN:VTIMEZONE
TZID:Europe/Stockholm
BEGIN:DAYLIGHT
TZOFFSETFROM:+0100
TZOFFSETTO:+0200
TZNAME:CEST
DTSTART:20250330T010000
END:DAYLIGHT
BEGIN:STANDARD
TZOFFSETFROM:+0200
TZOFFSETTO:+0100
TZNAME:CET
DTSTART:20251026T010000
END:STANDARD
BEGIN:DAYLIGHT
TZOFFSETFROM:+0100
TZOFFSETTO:+0200
TZNAME:CEST
DTSTART:20260329T010000
END:DAYLIGHT
BEGIN:STANDARD
TZOFFSETFROM:+0200
TZOFFSETTO:+0100
TZNAME:CET
DTSTART:20261025T010000
END:STANDARD
BEGIN:DAYLIGHT
TZOFFSETFROM:+0100
TZOFFSETTO:+0200
TZNAME:CEST
DTSTART:20270328T010000
END:DAYLIGHT
BEGIN:STANDARD
TZOFFSETFROM:+0200
TZOFFSETTO:+0100
TZNAME:CET
DTSTART:20271031T010000
END:STANDARD
END:VTIMEZONE
BEGIN:VEVENT
DTSTART;TZID=Europe/Stockholm:20260601T133000
DTEND;TZID=Europe/Stockholm:20260601T153000
DTSTAMP:20260424T145141
CREATED:20260415T095343Z
LAST-MODIFIED:20260415T095343Z
UID:1242-1780320600-1780327800@navigatordalarna.com
SUMMARY:Språkkafé på Lingongården! (vt-26)
DESCRIPTION:Välkommen till vårt språkkafé på Lingongården! \nHär kan deltagarna träna svenska på ett avslappnat sätt\, sitta och prata med äldre över en kopp kaffe och te. Vi bjuder på fika! \nVi träffas varje måndag kl. 13.30–15.30 från den 13 april till den 8 juni på Lingongården 6. \nVi bjuder på fika och erbjuder en avslappnad miljö där du kan öva svenska och träffa nya människor. \nAnmälan sker via integrationsenheten@ludvika.se\nEller ring/sms 0240 86 353 \nVarmt välkommen!
URL:https://navigatordalarna.com/event/sprakkafe-pa-lingongarden-vt-26-4/
LOCATION:Lingongården\, Lingongården 6\, Ludvika\, Dalarna\, 77140
CATEGORIES:Dalarna,Ludvika
ATTACH;FMTTYPE=image/jpeg:https://navigatordalarna.com/wp-content/uploads/2026/01/Namnlos-Design-1-kopia-e1770383371917.jpg
END:VEVENT
BEGIN:VEVENT
DTSTART;TZID=Europe/Stockholm:20260601T173000
DTEND;TZID=Europe/Stockholm:20260601T200000
DTSTAMP:20260424T145141
CREATED:20260120T145920Z
LAST-MODIFIED:20260123T134525Z
UID:382-1780335000-1780344000@navigatordalarna.com
SUMMARY:Språkcafé - Orsa för mångfald (våren 2026)
DESCRIPTION:Välkommen till Språkcaféet i Orsa – en varm och öppen mötesplats där människor från olika länder och kulturer träffas för att prata svenska\, utbyta erfarenheter och bygga nya vänskaper.\n\nHär kan du komma precis som du är. Vi fikar\, samtalar i små grupper och hjälps åt att utveckla språket i en avslappnad och trevlig miljö. Språkcaféet leds av Orsa för mångfald\, ibland i samarbete med Orsa församling och andra lokala aktörer. \nNär?\nVarje måndag kl. 17.30–ca 20.00 \nVar?\nOrsa församlingshem \nFör vem?\nFör nysvenskar som vill träna svenska – och för kommuninvånare som är nyfikna på nya möten\, kulturer och samtal. \nVarför komma?\n\nTräna svenska i en trygg och social miljö\nTräffa nya människor\nBygga broar mellan kulturer\nFika och ha trevligt\n\nArrangör: Orsa för mångfald Samarbetar med Orsa församling\, Rädda Barnen\, Orsa bibliotek och kulturföreningen Lyran och Orsa Kommun. \nOrsa för mångfald\nKontaktperson: Malena Gillgren\nFacebook: Orsa för mångfald / Odla för mångfald
URL:https://navigatordalarna.com/event/sprakcafe-orsa-for-mangfald-varen-2026-18/
LOCATION:Orsa församlingshem\, Kaplansgatan 14\, Orsa\, Dalarna\, 79430\, Sweden
CATEGORIES:Dalarna,Orsa
ATTACH;FMTTYPE=image/png:https://navigatordalarna.com/wp-content/uploads/2026/01/Orsa-for-mangfald-e1770383160522.png
END:VEVENT
BEGIN:VEVENT
DTSTART;TZID=Europe/Stockholm:20260602T143000
DTEND;TZID=Europe/Stockholm:20260602T173000
DTSTAMP:20260424T145141
CREATED:20260120T130615Z
LAST-MODIFIED:20260206T125814Z
UID:268-1780410600-1780421400@navigatordalarna.com
SUMMARY:Språkcafé och Läxhjälp med Internationella kvinnoföreningen Falun
DESCRIPTION:På Internationella kvinnoföreningens (IKF) språkcafé och läxhjälp kan du träna tala svenska och träffa nya vänner. \nVi brukar bland annat ha högläsning\, gympa med musik\, fika och läxhjälp. \nFör deltagandet i Språkcafé och Läxhjälp krävs att man blir medlem i Internationella kvinnoföreningen och har betalat en medlemsavgift på 100 kr (En gång per år). \nVi ses varje tisdag kl 14.30-17.30 på Magasinsgatan 27 i Falun ( Studiefrämjandet och ABF:s lokaler). \nVarje tisdag med start 13 januari 2026. \n  \n 
URL:https://navigatordalarna.com/event/sprakcafe-och-laxhjalp-med-internationella-kvinnoforeningen-falun-20/
LOCATION:Studiefrämjandet Mitt\, Magasinsgatan 27\, Falun\, Dalarna\, 79170
CATEGORIES:Dalarna,Falun
ATTACH;FMTTYPE=image/jpeg:https://navigatordalarna.com/wp-content/uploads/2026/01/IKF-Falun-e1770382338714.jpg
ORGANIZER;CN="Internationella Kvinnof%C3%B6reingen Falun":MAILTO:ikf.falun@gmail.com
END:VEVENT
BEGIN:VEVENT
DTSTART;TZID=Europe/Stockholm:20260608T133000
DTEND;TZID=Europe/Stockholm:20260608T153000
DTSTAMP:20260424T145141
CREATED:20260415T095356Z
LAST-MODIFIED:20260415T095356Z
UID:1244-1780925400-1780932600@navigatordalarna.com
SUMMARY:Språkkafé på Lingongården! (vt-26)
DESCRIPTION:Välkommen till vårt språkkafé på Lingongården! \nHär kan deltagarna träna svenska på ett avslappnat sätt\, sitta och prata med äldre över en kopp kaffe och te. Vi bjuder på fika! \nVi träffas varje måndag kl. 13.30–15.30 från den 13 april till den 8 juni på Lingongården 6. \nVi bjuder på fika och erbjuder en avslappnad miljö där du kan öva svenska och träffa nya människor. \nAnmälan sker via integrationsenheten@ludvika.se\nEller ring/sms 0240 86 353 \nVarmt välkommen!
URL:https://navigatordalarna.com/event/sprakkafe-pa-lingongarden-vt-26-5/
LOCATION:Lingongården\, Lingongården 6\, Ludvika\, Dalarna\, 77140
CATEGORIES:Dalarna,Ludvika
ATTACH;FMTTYPE=image/jpeg:https://navigatordalarna.com/wp-content/uploads/2026/01/Namnlos-Design-1-kopia-e1770383371917.jpg
END:VEVENT
BEGIN:VEVENT
DTSTART;TZID=Europe/Stockholm:20260609T143000
DTEND;TZID=Europe/Stockholm:20260609T173000
DTSTAMP:20260424T145141
CREATED:20260120T130629Z
LAST-MODIFIED:20260206T125752Z
UID:270-1781015400-1781026200@navigatordalarna.com
SUMMARY:Språkcafé och Läxhjälp med Internationella kvinnoföreningen Falun
DESCRIPTION:På Internationella kvinnoföreningens (IKF) språkcafé och läxhjälp kan du träna tala svenska och träffa nya vänner. \nVi brukar bland annat ha högläsning\, gympa med musik\, fika och läxhjälp. \nFör deltagandet i Språkcafé och Läxhjälp krävs att man blir medlem i Internationella kvinnoföreningen och har betalat en medlemsavgift på 100 kr (En gång per år). \nVi ses varje tisdag kl 14.30-17.30 på Magasinsgatan 27 i Falun ( Studiefrämjandet och ABF:s lokaler). \nVarje tisdag med start 13 januari 2026. \n  \n 
URL:https://navigatordalarna.com/event/sprakcafe-och-laxhjalp-med-internationella-kvinnoforeningen-falun-21/
LOCATION:Studiefrämjandet Mitt\, Magasinsgatan 27\, Falun\, Dalarna\, 79170
CATEGORIES:Dalarna,Falun
ATTACH;FMTTYPE=image/jpeg:https://navigatordalarna.com/wp-content/uploads/2026/01/IKF-Falun-e1770382338714.jpg
ORGANIZER;CN="Internationella Kvinnof%C3%B6reingen Falun":MAILTO:ikf.falun@gmail.com
END:VEVENT
BEGIN:VEVENT
DTSTART;TZID=Europe/Stockholm:20260616T143000
DTEND;TZID=Europe/Stockholm:20260616T173000
DTSTAMP:20260424T145141
CREATED:20260120T130644Z
LAST-MODIFIED:20260206T125728Z
UID:272-1781620200-1781631000@navigatordalarna.com
SUMMARY:Språkcafé och Läxhjälp med Internationella kvinnoföreningen Falun
DESCRIPTION:På Internationella kvinnoföreningens (IKF) språkcafé och läxhjälp kan du träna tala svenska och träffa nya vänner. \nVi brukar bland annat ha högläsning\, gympa med musik\, fika och läxhjälp. \nFör deltagandet i Språkcafé och Läxhjälp krävs att man blir medlem i Internationella kvinnoföreningen och har betalat en medlemsavgift på 100 kr (En gång per år). \nVi ses varje tisdag kl 14.30-17.30 på Magasinsgatan 27 i Falun ( Studiefrämjandet och ABF:s lokaler). \nVarje tisdag med start 13 januari 2026. \n  \n 
URL:https://navigatordalarna.com/event/sprakcafe-och-laxhjalp-med-internationella-kvinnoforeningen-falun-22/
LOCATION:Studiefrämjandet Mitt\, Magasinsgatan 27\, Falun\, Dalarna\, 79170
CATEGORIES:Dalarna,Falun
ATTACH;FMTTYPE=image/jpeg:https://navigatordalarna.com/wp-content/uploads/2026/01/IKF-Falun-e1770382338714.jpg
ORGANIZER;CN="Internationella Kvinnof%C3%B6reingen Falun":MAILTO:ikf.falun@gmail.com
END:VEVENT
BEGIN:VEVENT
DTSTART;TZID=Europe/Stockholm:20260623T143000
DTEND;TZID=Europe/Stockholm:20260623T173000
DTSTAMP:20260424T145141
CREATED:20260120T130700Z
LAST-MODIFIED:20260206T125708Z
UID:274-1782225000-1782235800@navigatordalarna.com
SUMMARY:Språkcafé och Läxhjälp med Internationella kvinnoföreningen Falun
DESCRIPTION:På Internationella kvinnoföreningens (IKF) språkcafé och läxhjälp kan du träna tala svenska och träffa nya vänner. \nVi brukar bland annat ha högläsning\, gympa med musik\, fika och läxhjälp. \nFör deltagandet i Språkcafé och Läxhjälp krävs att man blir medlem i Internationella kvinnoföreningen och har betalat en medlemsavgift på 100 kr (En gång per år). \nVi ses varje tisdag kl 14.30-17.30 på Magasinsgatan 27 i Falun ( Studiefrämjandet och ABF:s lokaler). \nVarje tisdag med start 13 januari 2026. \n  \n 
URL:https://navigatordalarna.com/event/sprakcafe-och-laxhjalp-med-internationella-kvinnoforeningen-falun-23/
LOCATION:Studiefrämjandet Mitt\, Magasinsgatan 27\, Falun\, Dalarna\, 79170
CATEGORIES:Dalarna,Falun
ATTACH;FMTTYPE=image/jpeg:https://navigatordalarna.com/wp-content/uploads/2026/01/IKF-Falun-e1770382338714.jpg
ORGANIZER;CN="Internationella Kvinnof%C3%B6reingen Falun":MAILTO:ikf.falun@gmail.com
END:VEVENT
BEGIN:VEVENT
DTSTART;TZID=Europe/Stockholm:20260630T143000
DTEND;TZID=Europe/Stockholm:20260630T173000
DTSTAMP:20260424T145141
CREATED:20260120T130720Z
LAST-MODIFIED:20260206T125616Z
UID:276-1782829800-1782840600@navigatordalarna.com
SUMMARY:Språkcafé och Läxhjälp med Internationella kvinnoföreningen Falun
DESCRIPTION:På Internationella kvinnoföreningens (IKF) språkcafé och läxhjälp kan du träna tala svenska och träffa nya vänner. \nVi brukar bland annat ha högläsning\, gympa med musik\, fika och läxhjälp. \nFör deltagandet i Språkcafé och Läxhjälp krävs att man blir medlem i Internationella kvinnoföreningen och har betalat en medlemsavgift på 100 kr (En gång per år). \nVi ses varje tisdag kl 14.30-17.30 på Magasinsgatan 27 i Falun ( Studiefrämjandet och ABF:s lokaler). \nVarje tisdag med start 13 januari 2026. \n  \n 
URL:https://navigatordalarna.com/event/sprakcafe-och-laxhjalp-med-internationella-kvinnoforeningen-falun-24/
LOCATION:Studiefrämjandet Mitt\, Magasinsgatan 27\, Falun\, Dalarna\, 79170
CATEGORIES:Dalarna,Falun
ATTACH;FMTTYPE=image/jpeg:https://navigatordalarna.com/wp-content/uploads/2026/01/IKF-Falun-e1770382338714.jpg
ORGANIZER;CN="Internationella Kvinnof%C3%B6reingen Falun":MAILTO:ikf.falun@gmail.com
END:VEVENT
END:VCALENDAR