BEGIN:VCALENDAR
VERSION:2.0
PRODID:-//Navigator Dalarna - ECPv6.15.17.1//NONSGML v1.0//EN
CALSCALE:GREGORIAN
METHOD:PUBLISH
X-WR-CALNAME:Navigator Dalarna
X-ORIGINAL-URL:https://navigatordalarna.com
X-WR-CALDESC:Händelser för Navigator Dalarna
REFRESH-INTERVAL;VALUE=DURATION:PT1H
X-Robots-Tag:noindex
X-PUBLISHED-TTL:PT1H
BEGIN:VTIMEZONE
TZID:Europe/Stockholm
BEGIN:DAYLIGHT
TZOFFSETFROM:+0100
TZOFFSETTO:+0200
TZNAME:CEST
DTSTART:20250330T010000
END:DAYLIGHT
BEGIN:STANDARD
TZOFFSETFROM:+0200
TZOFFSETTO:+0100
TZNAME:CET
DTSTART:20251026T010000
END:STANDARD
BEGIN:DAYLIGHT
TZOFFSETFROM:+0100
TZOFFSETTO:+0200
TZNAME:CEST
DTSTART:20260329T010000
END:DAYLIGHT
BEGIN:STANDARD
TZOFFSETFROM:+0200
TZOFFSETTO:+0100
TZNAME:CET
DTSTART:20261025T010000
END:STANDARD
BEGIN:DAYLIGHT
TZOFFSETFROM:+0100
TZOFFSETTO:+0200
TZNAME:CEST
DTSTART:20270328T010000
END:DAYLIGHT
BEGIN:STANDARD
TZOFFSETFROM:+0200
TZOFFSETTO:+0100
TZNAME:CET
DTSTART:20271031T010000
END:STANDARD
END:VTIMEZONE
BEGIN:VEVENT
DTSTART;TZID=Europe/Stockholm:20260406T173000
DTEND;TZID=Europe/Stockholm:20260406T200000
DTSTAMP:20260420T135718
CREATED:20260120T145509Z
LAST-MODIFIED:20260123T134633Z
UID:366-1775496600-1775505600@navigatordalarna.com
SUMMARY:Språkcafé - Orsa för mångfald (våren 2026)
DESCRIPTION:Välkommen till Språkcaféet i Orsa – en varm och öppen mötesplats där människor från olika länder och kulturer träffas för att prata svenska\, utbyta erfarenheter och bygga nya vänskaper.\n\nHär kan du komma precis som du är. Vi fikar\, samtalar i små grupper och hjälps åt att utveckla språket i en avslappnad och trevlig miljö. Språkcaféet leds av Orsa för mångfald\, ibland i samarbete med Orsa församling och andra lokala aktörer. \nNär?\nVarje måndag kl. 17.30–ca 20.00 \nVar?\nOrsa församlingshem \nFör vem?\nFör nysvenskar som vill träna svenska – och för kommuninvånare som är nyfikna på nya möten\, kulturer och samtal. \nVarför komma?\n\nTräna svenska i en trygg och social miljö\nTräffa nya människor\nBygga broar mellan kulturer\nFika och ha trevligt\n\nArrangör: Orsa för mångfald Samarbetar med Orsa församling\, Rädda Barnen\, Orsa bibliotek och kulturföreningen Lyran och Orsa Kommun. \nOrsa för mångfald\nKontaktperson: Malena Gillgren\nFacebook: Orsa för mångfald / Odla för mångfald
URL:https://navigatordalarna.com/event/sprakcafe-orsa-for-mangfald-varen-2026-10/
LOCATION:Orsa församlingshem\, Kaplansgatan 14\, Orsa\, Dalarna\, 79430\, Sweden
CATEGORIES:Dalarna,Orsa
ATTACH;FMTTYPE=image/png:https://navigatordalarna.com/wp-content/uploads/2026/01/Orsa-for-mangfald-e1770383160522.png
END:VEVENT
END:VCALENDAR