BEGIN:VCALENDAR
VERSION:2.0
PRODID:-//Navigator Dalarna - ECPv6.15.17.1//NONSGML v1.0//EN
CALSCALE:GREGORIAN
METHOD:PUBLISH
X-ORIGINAL-URL:https://navigatordalarna.com
X-WR-CALDESC:Händelser för Navigator Dalarna
REFRESH-INTERVAL;VALUE=DURATION:PT1H
X-Robots-Tag:noindex
X-PUBLISHED-TTL:PT1H
BEGIN:VTIMEZONE
TZID:Europe/Stockholm
BEGIN:DAYLIGHT
TZOFFSETFROM:+0100
TZOFFSETTO:+0200
TZNAME:CEST
DTSTART:20250330T010000
END:DAYLIGHT
BEGIN:STANDARD
TZOFFSETFROM:+0200
TZOFFSETTO:+0100
TZNAME:CET
DTSTART:20251026T010000
END:STANDARD
BEGIN:DAYLIGHT
TZOFFSETFROM:+0100
TZOFFSETTO:+0200
TZNAME:CEST
DTSTART:20260329T010000
END:DAYLIGHT
BEGIN:STANDARD
TZOFFSETFROM:+0200
TZOFFSETTO:+0100
TZNAME:CET
DTSTART:20261025T010000
END:STANDARD
BEGIN:DAYLIGHT
TZOFFSETFROM:+0100
TZOFFSETTO:+0200
TZNAME:CEST
DTSTART:20270328T010000
END:DAYLIGHT
BEGIN:STANDARD
TZOFFSETFROM:+0200
TZOFFSETTO:+0100
TZNAME:CET
DTSTART:20271031T010000
END:STANDARD
END:VTIMEZONE
BEGIN:VEVENT
DTSTART;TZID=Europe/Stockholm:20260416T160000
DTEND;TZID=Europe/Stockholm:20260416T174500
DTSTAMP:20260420T123047
CREATED:20260121T111345Z
LAST-MODIFIED:20260123T135228Z
UID:469-1776355200-1776361500@navigatordalarna.com
SUMMARY:Språkcafé på Borlänge Bibliotek (vt 2026)
DESCRIPTION:Vill du träna på att prata svenska? \n\nVälkommen till vårt språkcafé på Borlänge Bibliotek! \nHär kan du möta nya människor\, öva svenska i en avslappnad miljö och ta del av trevliga samtal. \nTid: Torsdagar kl. 16.00–17.45 \nDatum: \n\nFebruari: 5\, 12\, 19\nMars: 5\, 12\, 19\, 26\nMaj: 7\n\nArrangörer: Språkcafét arrangeras av Borlänge Bibliotek\, Dalabiblioteken och Studieförbundet Bilda. \nVarmt välkommen!
URL:https://navigatordalarna.com/event/sprakcafe-pa-borlange-bibliotek-vt-2026-8/
LOCATION:Borlänge Bibliotek\, Sveatorget 5\, Borlänge\, Dalarna\, 78127\, Sweden
CATEGORIES:Borlänge,Dalarna
ATTACH;FMTTYPE=image/jpeg:https://navigatordalarna.com/wp-content/uploads/2026/01/Sprakcafe-VT-26_Borlange-Bibliotek_Bilda.pdf-e1770383175408.jpg
ORGANIZER;CN="Dalabiblioteken":MAILTO:bibliotek.djuras@gagnef.se
END:VEVENT
BEGIN:VEVENT
DTSTART;TZID=Europe/Stockholm:20260416T163000
DTEND;TZID=Europe/Stockholm:20260416T173000
DTSTAMP:20260420T123047
CREATED:20260120T123759Z
LAST-MODIFIED:20260123T134841Z
UID:219-1776357000-1776360600@navigatordalarna.com
SUMMARY:Språkcafé på Kulturhuset tio14
DESCRIPTION:Plats: Kulturhuset tio14\, Teatergatan 5 i Falun.\nDatum: Varje torsdag från den 5 februari till den 21 maj 2026 \nOm språkcafé: Vi träffas för att prata om livet\, fika och ha kul tillsammans.\nSpråkcaféet är en del av Kreativ verkstad. Det spelar ingen roll hur bra du är på att prata svenska! \nAnmälan: Om du vill komma måste du anmäla dig\, vilket du kan göra på plats.\nDu kan även anmäla dig samt ställa frågor via e-post till: gabriella.astrom@abf.se. \nDet är gratis att delta. Alla är välkomna! \nStanna gärna kvar efter språkcaféet och upptäck kulturhusets andra aktiviteter som pågår kl 14.00 -20.00 (0-100 år). \nDen här aktiviteten ingår i Navigator Dalarna\, ett projekt som delfinansieras av Länsstyrelsen Dalarna och är en\nsamverkan mellan Falu kommun (Kulturhuset tio14)\, ABF Dalarna och Skådebanan i Dalarna.
URL:https://navigatordalarna.com/event/sprakcafe-pa-kulturhuset-tio14-11/
LOCATION:Kulturhuset tio 14\, Teatergatan 5\, Falun\, Dalarna\, 79162\, Sweden
CATEGORIES:Dalarna,Falun
ATTACH;FMTTYPE=image/jpeg:https://navigatordalarna.com/wp-content/uploads/2026/01/Sprakkafe-kulturhuset-tio14-vt-26-1.pdf-e1770383256144.jpg
ORGANIZER;CN="ABF Dalarna":MAILTO:gabriella.astrom@abf.se
END:VEVENT
END:VCALENDAR