BEGIN:VCALENDAR
VERSION:2.0
PRODID:-//Navigator Dalarna - ECPv6.15.17.1//NONSGML v1.0//EN
CALSCALE:GREGORIAN
METHOD:PUBLISH
X-ORIGINAL-URL:https://navigatordalarna.com
X-WR-CALDESC:Händelser för Navigator Dalarna
REFRESH-INTERVAL;VALUE=DURATION:PT1H
X-Robots-Tag:noindex
X-PUBLISHED-TTL:PT1H
BEGIN:VTIMEZONE
TZID:Europe/Stockholm
BEGIN:DAYLIGHT
TZOFFSETFROM:+0100
TZOFFSETTO:+0200
TZNAME:CEST
DTSTART:20250330T010000
END:DAYLIGHT
BEGIN:STANDARD
TZOFFSETFROM:+0200
TZOFFSETTO:+0100
TZNAME:CET
DTSTART:20251026T010000
END:STANDARD
BEGIN:DAYLIGHT
TZOFFSETFROM:+0100
TZOFFSETTO:+0200
TZNAME:CEST
DTSTART:20260329T010000
END:DAYLIGHT
BEGIN:STANDARD
TZOFFSETFROM:+0200
TZOFFSETTO:+0100
TZNAME:CET
DTSTART:20261025T010000
END:STANDARD
BEGIN:DAYLIGHT
TZOFFSETFROM:+0100
TZOFFSETTO:+0200
TZNAME:CEST
DTSTART:20270328T010000
END:DAYLIGHT
BEGIN:STANDARD
TZOFFSETFROM:+0200
TZOFFSETTO:+0100
TZNAME:CET
DTSTART:20271031T010000
END:STANDARD
END:VTIMEZONE
BEGIN:VEVENT
DTSTART;TZID=Europe/Stockholm:20260430T163000
DTEND;TZID=Europe/Stockholm:20260430T173000
DTSTAMP:20260422T190956
CREATED:20260120T123944Z
LAST-MODIFIED:20260123T134812Z
UID:223-1777566600-1777570200@navigatordalarna.com
SUMMARY:Språkcafé på Kulturhuset tio14
DESCRIPTION:Plats: Kulturhuset tio14\, Teatergatan 5 i Falun.\nDatum: Varje torsdag från den 5 februari till den 21 maj 2026 \nOm språkcafé: Vi träffas för att prata om livet\, fika och ha kul tillsammans.\nSpråkcaféet är en del av Kreativ verkstad. Det spelar ingen roll hur bra du är på att prata svenska! \nAnmälan: Om du vill komma måste du anmäla dig\, vilket du kan göra på plats.\nDu kan även anmäla dig samt ställa frågor via e-post till: gabriella.astrom@abf.se. \nDet är gratis att delta. Alla är välkomna! \nStanna gärna kvar efter språkcaféet och upptäck kulturhusets andra aktiviteter som pågår kl 14.00 -20.00 (0-100 år). \nDen här aktiviteten ingår i Navigator Dalarna\, ett projekt som delfinansieras av Länsstyrelsen Dalarna och är en\nsamverkan mellan Falu kommun (Kulturhuset tio14)\, ABF Dalarna och Skådebanan i Dalarna.
URL:https://navigatordalarna.com/event/sprakcafe-pa-kulturhuset-tio14-13/
LOCATION:Kulturhuset tio 14\, Teatergatan 5\, Falun\, Dalarna\, 79162\, Sweden
CATEGORIES:Dalarna,Falun
ATTACH;FMTTYPE=image/jpeg:https://navigatordalarna.com/wp-content/uploads/2026/01/Sprakkafe-kulturhuset-tio14-vt-26-1.pdf-e1770383256144.jpg
ORGANIZER;CN="ABF Dalarna":MAILTO:gabriella.astrom@abf.se
END:VEVENT
END:VCALENDAR