BEGIN:VCALENDAR
VERSION:2.0
PRODID:-//Navigator Dalarna - ECPv6.15.17.1//NONSGML v1.0//EN
CALSCALE:GREGORIAN
METHOD:PUBLISH
X-WR-CALNAME:Navigator Dalarna
X-ORIGINAL-URL:https://navigatordalarna.com
X-WR-CALDESC:Händelser för Navigator Dalarna
REFRESH-INTERVAL;VALUE=DURATION:PT1H
X-Robots-Tag:noindex
X-PUBLISHED-TTL:PT1H
BEGIN:VTIMEZONE
TZID:Europe/Stockholm
BEGIN:DAYLIGHT
TZOFFSETFROM:+0100
TZOFFSETTO:+0200
TZNAME:CEST
DTSTART:20250330T010000
END:DAYLIGHT
BEGIN:STANDARD
TZOFFSETFROM:+0200
TZOFFSETTO:+0100
TZNAME:CET
DTSTART:20251026T010000
END:STANDARD
BEGIN:DAYLIGHT
TZOFFSETFROM:+0100
TZOFFSETTO:+0200
TZNAME:CEST
DTSTART:20260329T010000
END:DAYLIGHT
BEGIN:STANDARD
TZOFFSETFROM:+0200
TZOFFSETTO:+0100
TZNAME:CET
DTSTART:20261025T010000
END:STANDARD
BEGIN:DAYLIGHT
TZOFFSETFROM:+0100
TZOFFSETTO:+0200
TZNAME:CEST
DTSTART:20270328T010000
END:DAYLIGHT
BEGIN:STANDARD
TZOFFSETFROM:+0200
TZOFFSETTO:+0100
TZNAME:CET
DTSTART:20271031T010000
END:STANDARD
END:VTIMEZONE
BEGIN:VEVENT
DTSTART;TZID=Europe/Stockholm:20260422T170000
DTEND;TZID=Europe/Stockholm:20260422T190000
DTSTAMP:20260422T135615
CREATED:20260415T093350Z
LAST-MODIFIED:20260415T093350Z
UID:1224-1776877200-1776884400@navigatordalarna.com
SUMMARY:Språkcafé Rödakorslokalen i Ludvika (vt-26)
DESCRIPTION:Välkommen till vårt språkcafé!\nVill du träna svenska i en avslappnad och trevlig miljö? Kom och prata\, lyssna och lär tillsammans med andra. \nVi träffas på onsdagar kl. 17.00–19.00 i Röda Korslokalen på Timmermansvägen 1 (ingång från Ljunghällsvägen). \nÖppnar den 14 januari 2026. \nHär får du möjlighet att öva svenska\, träffa nya människor och ha trevligt tillsammans. \nAlla är välkomna!
URL:https://navigatordalarna.com/event/sprakcafe-rodakorslokalen-i-ludvika-vt-26-2/
LOCATION:Röda korset Ludvika\, mötesplats kupan\, Timmermansvägen 1\, Ludvika\, Dalarna\, 77152\, Sweden
CATEGORIES:Dalarna,Ludvika
ATTACH;FMTTYPE=image/png:https://navigatordalarna.com/wp-content/uploads/2026/04/Sprakcafe_rodakorslokalen_ludvika-e1776245506891.png
ORGANIZER;CN="R%C3%B6da korset Ludvika":MAILTO:ludvika@redcross.se
END:VEVENT
BEGIN:VEVENT
DTSTART;TZID=Europe/Stockholm:20260423T160000
DTEND;TZID=Europe/Stockholm:20260423T174500
DTSTAMP:20260422T135615
CREATED:20260121T111401Z
LAST-MODIFIED:20260123T135222Z
UID:471-1776960000-1776966300@navigatordalarna.com
SUMMARY:Språkcafé på Borlänge Bibliotek (vt 2026)
DESCRIPTION:Vill du träna på att prata svenska? \n\nVälkommen till vårt språkcafé på Borlänge Bibliotek! \nHär kan du möta nya människor\, öva svenska i en avslappnad miljö och ta del av trevliga samtal. \nTid: Torsdagar kl. 16.00–17.45 \nDatum: \n\nFebruari: 5\, 12\, 19\nMars: 5\, 12\, 19\, 26\nMaj: 7\n\nArrangörer: Språkcafét arrangeras av Borlänge Bibliotek\, Dalabiblioteken och Studieförbundet Bilda. \nVarmt välkommen!
URL:https://navigatordalarna.com/event/sprakcafe-pa-borlange-bibliotek-vt-2026-9/
LOCATION:Borlänge Bibliotek\, Sveatorget 5\, Borlänge\, Dalarna\, 78127\, Sweden
CATEGORIES:Borlänge,Dalarna
ATTACH;FMTTYPE=image/jpeg:https://navigatordalarna.com/wp-content/uploads/2026/01/Sprakcafe-VT-26_Borlange-Bibliotek_Bilda.pdf-e1770383175408.jpg
ORGANIZER;CN="Dalabiblioteken":MAILTO:bibliotek.djuras@gagnef.se
END:VEVENT
BEGIN:VEVENT
DTSTART;TZID=Europe/Stockholm:20260423T163000
DTEND;TZID=Europe/Stockholm:20260423T173000
DTSTAMP:20260422T135615
CREATED:20260120T123907Z
LAST-MODIFIED:20260123T134825Z
UID:221-1776961800-1776965400@navigatordalarna.com
SUMMARY:Språkcafé på Kulturhuset tio14
DESCRIPTION:Plats: Kulturhuset tio14\, Teatergatan 5 i Falun.\nDatum: Varje torsdag från den 5 februari till den 21 maj 2026 \nOm språkcafé: Vi träffas för att prata om livet\, fika och ha kul tillsammans.\nSpråkcaféet är en del av Kreativ verkstad. Det spelar ingen roll hur bra du är på att prata svenska! \nAnmälan: Om du vill komma måste du anmäla dig\, vilket du kan göra på plats.\nDu kan även anmäla dig samt ställa frågor via e-post till: gabriella.astrom@abf.se. \nDet är gratis att delta. Alla är välkomna! \nStanna gärna kvar efter språkcaféet och upptäck kulturhusets andra aktiviteter som pågår kl 14.00 -20.00 (0-100 år). \nDen här aktiviteten ingår i Navigator Dalarna\, ett projekt som delfinansieras av Länsstyrelsen Dalarna och är en\nsamverkan mellan Falu kommun (Kulturhuset tio14)\, ABF Dalarna och Skådebanan i Dalarna.
URL:https://navigatordalarna.com/event/sprakcafe-pa-kulturhuset-tio14-12/
LOCATION:Kulturhuset tio 14\, Teatergatan 5\, Falun\, Dalarna\, 79162\, Sweden
CATEGORIES:Dalarna,Falun
ATTACH;FMTTYPE=image/jpeg:https://navigatordalarna.com/wp-content/uploads/2026/01/Sprakkafe-kulturhuset-tio14-vt-26-1.pdf-e1770383256144.jpg
ORGANIZER;CN="ABF Dalarna":MAILTO:gabriella.astrom@abf.se
END:VEVENT
BEGIN:VEVENT
DTSTART;TZID=Europe/Stockholm:20260427T133000
DTEND;TZID=Europe/Stockholm:20260427T153000
DTSTAMP:20260422T135615
CREATED:20260415T095229Z
LAST-MODIFIED:20260415T095229Z
UID:1232-1777296600-1777303800@navigatordalarna.com
SUMMARY:Språkcafé på Lingongården! (vt-26)
DESCRIPTION:Välkommen till vårt språkkafé på Lingongården! \nHär kan deltagarna träna svenska på ett avslappnat sätt\, sitta och prata med äldre över en kopp kaffe och te. Vi bjuder på fika! \nVi träffas varje måndag kl. 13.30–15.30 från den 13 april till den 8 juni på Lingongården 6. \nVi bjuder på fika och erbjuder en avslappnad miljö där du kan öva svenska och träffa nya människor. \nAnmälan sker via integrationsenheten@ludvika.se\nEller ring/sms 0240 86 353 \nVarmt välkommen!
URL:https://navigatordalarna.com/event/sprakcafe-pa-lingongarden-vt-26-2/
LOCATION:Lingongården\, Lingongården 6\, Ludvika\, Dalarna\, 77140
CATEGORIES:Dalarna,Ludvika
ATTACH;FMTTYPE=image/jpeg:https://navigatordalarna.com/wp-content/uploads/2026/01/Namnlos-Design-1-kopia-e1770383371917.jpg
END:VEVENT
BEGIN:VEVENT
DTSTART;TZID=Europe/Stockholm:20260428T143000
DTEND;TZID=Europe/Stockholm:20260428T173000
DTSTAMP:20260422T135615
CREATED:20260120T130448Z
LAST-MODIFIED:20260206T130103Z
UID:258-1777386600-1777397400@navigatordalarna.com
SUMMARY:Språkcafé och Läxhjälp med Internationella kvinnoföreningen Falun
DESCRIPTION:På Internationella kvinnoföreningens (IKF) språkcafé och läxhjälp kan du träna tala svenska och träffa nya vänner. \nVi brukar bland annat ha högläsning\, gympa med musik\, fika och läxhjälp. \nFör deltagandet i Språkcafé och Läxhjälp krävs att man blir medlem i Internationella kvinnoföreningen och har betalat en medlemsavgift på 100 kr (En gång per år). \nVi ses varje tisdag kl 14.30-17.30 på Magasinsgatan 27 i Falun ( Studiefrämjandet och ABF:s lokaler). \nVarje tisdag med start 13 januari 2026. \n  \n 
URL:https://navigatordalarna.com/event/sprakcafe-och-laxhjalp-med-internationella-kvinnoforeningen-falun-15/
LOCATION:Studiefrämjandet Mitt\, Magasinsgatan 27\, Falun\, Dalarna\, 79170
CATEGORIES:Dalarna,Falun
ATTACH;FMTTYPE=image/jpeg:https://navigatordalarna.com/wp-content/uploads/2026/01/IKF-Falun-e1770382338714.jpg
ORGANIZER;CN="Internationella Kvinnof%C3%B6reingen Falun":MAILTO:ikf.falun@gmail.com
END:VEVENT
BEGIN:VEVENT
DTSTART;TZID=Europe/Stockholm:20260429T130000
DTEND;TZID=Europe/Stockholm:20260429T150000
DTSTAMP:20260422T135615
CREATED:20260122T100539Z
LAST-MODIFIED:20260123T135216Z
UID:510-1777467600-1777474800@navigatordalarna.com
SUMMARY:Språkcafé på Liljegården (vt 2026)
DESCRIPTION:Varmt välkommen till vårt språkcafé – en mötesplats där människor från olika kulturer och bakgrunder kan träffas\, samtala och öva svenska i en avslappnad och trevlig miljö. \nSpråkcaféet är ett samarbete mellan Equmeniakyrkan Borlänge och Borlänge Asylkommitté. \nDatum: 21/1\, 4/2\, 18/2\, 4/3\, 18/3\, 1/4\, 15/4\, 29/4\, 13/5\, 27/5 \n\nTid: kl. 13.00–15.00\nPlats: Liljegården\, Missionskyrkan\, Borganäsvägen 22\, Borlänge \nFör vem?: Språkcaféet är öppet för både invandrare och svenskar\, oavsett religion. Alla som vill öva svenska\, knyta nya kontakter eller bara umgås över en fika är varmt välkomna. \nHär kan du få hjälp med:\n\nAtt öva svenska\nTillgång till lekrum för barn\nHjälp att fylla i blanketter och andra handlingar\nRådgivning i asylärenden\nStöd och råd inför kontakter med myndigheter\n\nVi tror att mötet mellan människor är viktigt – det skapar trygghet och ger möjlighet att utbyta erfarenheter och förstå mer om samhället. \n”Chai and wifi”\nUnder träffarna bjuder vi på te och erbjuder internetuppkoppling för dig som behöver det. \n\n\n\n\n\n 
URL:https://navigatordalarna.com/event/sprakcafe-pa-liljegarden-vt-2026-7/
LOCATION:Equmeniakyrkan\, Borganäsvägen 22\, Borlänge\, Dalarna\, 78433\, Sweden
CATEGORIES:Borlänge,Dalarna
ATTACH;FMTTYPE=image/jpeg:https://navigatordalarna.com/wp-content/uploads/2026/01/Namnlos-Design-1-kopia-e1770383371917.jpg
ORGANIZER;CN="Equmeniakyrkan":MAILTO:pastor@equmeniakyrkanborlange.se
END:VEVENT
BEGIN:VEVENT
DTSTART;TZID=Europe/Stockholm:20260429T170000
DTEND;TZID=Europe/Stockholm:20260429T190000
DTSTAMP:20260422T135615
CREATED:20260415T093407Z
LAST-MODIFIED:20260415T093407Z
UID:1226-1777482000-1777489200@navigatordalarna.com
SUMMARY:Språkcafé Rödakorslokalen i Ludvika (vt-26)
DESCRIPTION:Välkommen till vårt språkcafé!\nVill du träna svenska i en avslappnad och trevlig miljö? Kom och prata\, lyssna och lär tillsammans med andra. \nVi träffas på onsdagar kl. 17.00–19.00 i Röda Korslokalen på Timmermansvägen 1 (ingång från Ljunghällsvägen). \nÖppnar den 14 januari 2026. \nHär får du möjlighet att öva svenska\, träffa nya människor och ha trevligt tillsammans. \nAlla är välkomna!
URL:https://navigatordalarna.com/event/sprakcafe-rodakorslokalen-i-ludvika-vt-26-3/
LOCATION:Röda korset Ludvika\, mötesplats kupan\, Timmermansvägen 1\, Ludvika\, Dalarna\, 77152\, Sweden
CATEGORIES:Dalarna,Ludvika
ATTACH;FMTTYPE=image/png:https://navigatordalarna.com/wp-content/uploads/2026/04/Sprakcafe_rodakorslokalen_ludvika-e1776245506891.png
ORGANIZER;CN="R%C3%B6da korset Ludvika":MAILTO:ludvika@redcross.se
END:VEVENT
BEGIN:VEVENT
DTSTART;TZID=Europe/Stockholm:20260430T163000
DTEND;TZID=Europe/Stockholm:20260430T173000
DTSTAMP:20260422T135615
CREATED:20260120T123944Z
LAST-MODIFIED:20260123T134812Z
UID:223-1777566600-1777570200@navigatordalarna.com
SUMMARY:Språkcafé på Kulturhuset tio14
DESCRIPTION:Plats: Kulturhuset tio14\, Teatergatan 5 i Falun.\nDatum: Varje torsdag från den 5 februari till den 21 maj 2026 \nOm språkcafé: Vi träffas för att prata om livet\, fika och ha kul tillsammans.\nSpråkcaféet är en del av Kreativ verkstad. Det spelar ingen roll hur bra du är på att prata svenska! \nAnmälan: Om du vill komma måste du anmäla dig\, vilket du kan göra på plats.\nDu kan även anmäla dig samt ställa frågor via e-post till: gabriella.astrom@abf.se. \nDet är gratis att delta. Alla är välkomna! \nStanna gärna kvar efter språkcaféet och upptäck kulturhusets andra aktiviteter som pågår kl 14.00 -20.00 (0-100 år). \nDen här aktiviteten ingår i Navigator Dalarna\, ett projekt som delfinansieras av Länsstyrelsen Dalarna och är en\nsamverkan mellan Falu kommun (Kulturhuset tio14)\, ABF Dalarna och Skådebanan i Dalarna.
URL:https://navigatordalarna.com/event/sprakcafe-pa-kulturhuset-tio14-13/
LOCATION:Kulturhuset tio 14\, Teatergatan 5\, Falun\, Dalarna\, 79162\, Sweden
CATEGORIES:Dalarna,Falun
ATTACH;FMTTYPE=image/jpeg:https://navigatordalarna.com/wp-content/uploads/2026/01/Sprakkafe-kulturhuset-tio14-vt-26-1.pdf-e1770383256144.jpg
ORGANIZER;CN="ABF Dalarna":MAILTO:gabriella.astrom@abf.se
END:VEVENT
END:VCALENDAR