BEGIN:VCALENDAR
VERSION:2.0
PRODID:-//Navigator Dalarna - ECPv6.15.17.1//NONSGML v1.0//EN
CALSCALE:GREGORIAN
METHOD:PUBLISH
X-ORIGINAL-URL:https://navigatordalarna.com
X-WR-CALDESC:Händelser för Navigator Dalarna
REFRESH-INTERVAL;VALUE=DURATION:PT1H
X-Robots-Tag:noindex
X-PUBLISHED-TTL:PT1H
BEGIN:VTIMEZONE
TZID:Europe/Stockholm
BEGIN:DAYLIGHT
TZOFFSETFROM:+0100
TZOFFSETTO:+0200
TZNAME:CEST
DTSTART:20250330T010000
END:DAYLIGHT
BEGIN:STANDARD
TZOFFSETFROM:+0200
TZOFFSETTO:+0100
TZNAME:CET
DTSTART:20251026T010000
END:STANDARD
BEGIN:DAYLIGHT
TZOFFSETFROM:+0100
TZOFFSETTO:+0200
TZNAME:CEST
DTSTART:20260329T010000
END:DAYLIGHT
BEGIN:STANDARD
TZOFFSETFROM:+0200
TZOFFSETTO:+0100
TZNAME:CET
DTSTART:20261025T010000
END:STANDARD
BEGIN:DAYLIGHT
TZOFFSETFROM:+0100
TZOFFSETTO:+0200
TZNAME:CEST
DTSTART:20270328T010000
END:DAYLIGHT
BEGIN:STANDARD
TZOFFSETFROM:+0200
TZOFFSETTO:+0100
TZNAME:CET
DTSTART:20271031T010000
END:STANDARD
END:VTIMEZONE
BEGIN:VEVENT
DTSTART;TZID=Europe/Stockholm:20260423T130000
DTEND;TZID=Europe/Stockholm:20260423T143000
DTSTAMP:20260420T141202
CREATED:20260223T134024Z
LAST-MODIFIED:20260407T130117Z
UID:1108-1776949200-1776954600@navigatordalarna.com
SUMMARY:Musik & Språkcafé (Våren 2026)
DESCRIPTION:På Musik & Språkcafé är kommer vi genom sång och musik lära oss svenska tillsammans. \nMålgrupp och förkunskap – Asylsökande och nyanlända. \nLedare – Erik Linder \nLäs mer och anmäl dig här – Musik- och språkcafé \nMetod – Utgångspunkten i alla våra studiecirklar och kurser är folkbildningspedagogiken\, som bygger på dialog mellan ledare och deltagare. Ledaren är navet i cirkeln\, men deltagarnas önskemål\, förkunskaper och behov formar den gemensamma kunskapsresan. Lärandet sker i en liten demokratisk grupp där nyfikenhet och glädje genomsyrar arbetet. \nAnmäl dig här – Musik- och språkcafé \nTillgänglighet – Vår ambition är att så många som möjligt ska kunna delta på våra kurser och använda vårt material. Har du frågor kring tillgänglighet är du välkommen att kontakta oss.
URL:https://navigatordalarna.com/event/musik-sprakcafe-varen-2026-5/
LOCATION:Dahlanders Kunskapscenter\, Jönshyttevägen 4\, Säter\, Dalarna\, 78332\, Sweden
CATEGORIES:Dalarna,Säter
ATTACH;FMTTYPE=image/jpeg:https://navigatordalarna.com/wp-content/uploads/2026/01/1225960169-kopia-e1770383461839.jpg
ORGANIZER;CN="ABF Dalarna":MAILTO:gabriella.astrom@abf.se
END:VEVENT
BEGIN:VEVENT
DTSTART;TZID=Europe/Stockholm:20260430T130000
DTEND;TZID=Europe/Stockholm:20260430T143000
DTSTAMP:20260420T141202
CREATED:20260223T134041Z
LAST-MODIFIED:20260407T130137Z
UID:1110-1777554000-1777559400@navigatordalarna.com
SUMMARY:Musik & Språkcafé (Våren 2026)
DESCRIPTION:På Musik & Språkcafé är kommer vi genom sång och musik lära oss svenska tillsammans. \nMålgrupp och förkunskap – Asylsökande och nyanlända. \nLedare – Erik Linder \nLäs mer och anmäl dig här – Musik- och språkcafé \nMetod – Utgångspunkten i alla våra studiecirklar och kurser är folkbildningspedagogiken\, som bygger på dialog mellan ledare och deltagare. Ledaren är navet i cirkeln\, men deltagarnas önskemål\, förkunskaper och behov formar den gemensamma kunskapsresan. Lärandet sker i en liten demokratisk grupp där nyfikenhet och glädje genomsyrar arbetet. \nTillgänglighet – Vår ambition är att så många som möjligt ska kunna delta på våra kurser och använda vårt material. Har du frågor kring tillgänglighet är du välkommen att kontakta oss.
URL:https://navigatordalarna.com/event/musik-sprakcafe-varen-2026-6/
LOCATION:Dahlanders Kunskapscenter\, Jönshyttevägen 4\, Säter\, Dalarna\, 78332\, Sweden
CATEGORIES:Dalarna,Säter
ATTACH;FMTTYPE=image/jpeg:https://navigatordalarna.com/wp-content/uploads/2026/01/1225960169-kopia-e1770383461839.jpg
ORGANIZER;CN="ABF Dalarna":MAILTO:gabriella.astrom@abf.se
END:VEVENT
BEGIN:VEVENT
DTSTART;TZID=Europe/Stockholm:20260507T130000
DTEND;TZID=Europe/Stockholm:20260507T143000
DTSTAMP:20260420T141202
CREATED:20260223T134057Z
LAST-MODIFIED:20260407T130203Z
UID:1112-1778158800-1778164200@navigatordalarna.com
SUMMARY:Musik & Språkcafé (Våren 2026)
DESCRIPTION:På Musik & Språkcafé är kommer vi genom sång och musik lära oss svenska tillsammans. \nMålgrupp och förkunskap – Asylsökande och nyanlända. \nLedare – Erik Linder \nLäs mer och anmäl dig här – Musik- och språkcafé \nMetod – Utgångspunkten i alla våra studiecirklar och kurser är folkbildningspedagogiken\, som bygger på dialog mellan ledare och deltagare. Ledaren är navet i cirkeln\, men deltagarnas önskemål\, förkunskaper och behov formar den gemensamma kunskapsresan. Lärandet sker i en liten demokratisk grupp där nyfikenhet och glädje genomsyrar arbetet. \nTillgänglighet – Vår ambition är att så många som möjligt ska kunna delta på våra kurser och använda vårt material. Har du frågor kring tillgänglighet är du välkommen att kontakta oss.
URL:https://navigatordalarna.com/event/musik-sprakcafe-varen-2026-7/
LOCATION:Dahlanders Kunskapscenter\, Jönshyttevägen 4\, Säter\, Dalarna\, 78332\, Sweden
CATEGORIES:Dalarna,Säter
ATTACH;FMTTYPE=image/jpeg:https://navigatordalarna.com/wp-content/uploads/2026/01/1225960169-kopia-e1770383461839.jpg
ORGANIZER;CN="ABF Dalarna":MAILTO:gabriella.astrom@abf.se
END:VEVENT
BEGIN:VEVENT
DTSTART;TZID=Europe/Stockholm:20260521T130000
DTEND;TZID=Europe/Stockholm:20260521T143000
DTSTAMP:20260420T141202
CREATED:20260223T134145Z
LAST-MODIFIED:20260407T130242Z
UID:1116-1779368400-1779373800@navigatordalarna.com
SUMMARY:Musik & Språkcafé (Våren 2026)
DESCRIPTION:På Musik & Språkcafé är kommer vi genom sång och musik lära oss svenska tillsammans. \nMålgrupp och förkunskap – Asylsökande och nyanlända. \nLedare – Erik Linder \nLäs mer och anmäl dig här – Musik- och språkcafé \nMetod – Utgångspunkten i alla våra studiecirklar och kurser är folkbildningspedagogiken\, som bygger på dialog mellan ledare och deltagare. Ledaren är navet i cirkeln\, men deltagarnas önskemål\, förkunskaper och behov formar den gemensamma kunskapsresan. Lärandet sker i en liten demokratisk grupp där nyfikenhet och glädje genomsyrar arbetet. \nTillgänglighet – Vår ambition är att så många som möjligt ska kunna delta på våra kurser och använda vårt material. Har du frågor kring tillgänglighet är du välkommen att kontakta oss.
URL:https://navigatordalarna.com/event/musik-sprakcafe-varen-2026-9/
LOCATION:Dahlanders Kunskapscenter\, Jönshyttevägen 4\, Säter\, Dalarna\, 78332\, Sweden
CATEGORIES:Dalarna,Säter
ATTACH;FMTTYPE=image/jpeg:https://navigatordalarna.com/wp-content/uploads/2026/01/1225960169-kopia-e1770383461839.jpg
ORGANIZER;CN="ABF Dalarna":MAILTO:gabriella.astrom@abf.se
END:VEVENT
BEGIN:VEVENT
DTSTART;TZID=Europe/Stockholm:20260528T130000
DTEND;TZID=Europe/Stockholm:20260528T143000
DTSTAMP:20260420T141202
CREATED:20260223T134320Z
LAST-MODIFIED:20260407T130302Z
UID:1118-1779973200-1779978600@navigatordalarna.com
SUMMARY:Musik & Språkcafé (Våren 2026)
DESCRIPTION:På Musik & Språkcafé är kommer vi genom sång och musik lära oss svenska tillsammans. \nMålgrupp och förkunskap – Asylsökande och nyanlända. \nLedare – Erik Linder \nLäs mer och anmäl dig här – Musik- och språkcafé \nMetod – Utgångspunkten i alla våra studiecirklar och kurser är folkbildningspedagogiken\, som bygger på dialog mellan ledare och deltagare. Ledaren är navet i cirkeln\, men deltagarnas önskemål\, förkunskaper och behov formar den gemensamma kunskapsresan. Lärandet sker i en liten demokratisk grupp där nyfikenhet och glädje genomsyrar arbetet. \nTillgänglighet – Vår ambition är att så många som möjligt ska kunna delta på våra kurser och använda vårt material. Har du frågor kring tillgänglighet är du välkommen att kontakta oss.
URL:https://navigatordalarna.com/event/musik-sprakcafe-varen-2026-10/
LOCATION:Dahlanders Kunskapscenter\, Jönshyttevägen 4\, Säter\, Dalarna\, 78332\, Sweden
CATEGORIES:Dalarna,Säter
ATTACH;FMTTYPE=image/jpeg:https://navigatordalarna.com/wp-content/uploads/2026/01/1225960169-kopia-e1770383461839.jpg
ORGANIZER;CN="ABF Dalarna":MAILTO:gabriella.astrom@abf.se
END:VEVENT
BEGIN:VEVENT
DTSTART;TZID=Europe/Stockholm:20260604T130000
DTEND;TZID=Europe/Stockholm:20260604T143000
DTSTAMP:20260420T141202
CREATED:20260223T134113Z
LAST-MODIFIED:20260415T080106Z
UID:1114-1780578000-1780583400@navigatordalarna.com
SUMMARY:Musik & Språkcafé (Våren 2026)
DESCRIPTION:På Musik & Språkcafé är kommer vi genom sång och musik lära oss svenska tillsammans. \nMålgrupp och förkunskap – Asylsökande och nyanlända. \nLedare – Erik Linder \nLäs mer och anmäl dig här – Musik- och språkcafé \nMetod – Utgångspunkten i alla våra studiecirklar och kurser är folkbildningspedagogiken\, som bygger på dialog mellan ledare och deltagare. Ledaren är navet i cirkeln\, men deltagarnas önskemål\, förkunskaper och behov formar den gemensamma kunskapsresan. Lärandet sker i en liten demokratisk grupp där nyfikenhet och glädje genomsyrar arbetet. \nTillgänglighet – Vår ambition är att så många som möjligt ska kunna delta på våra kurser och använda vårt material. Har du frågor kring tillgänglighet är du välkommen att kontakta oss.
URL:https://navigatordalarna.com/event/musik-sprakcafe-varen-2026-8/
LOCATION:Dahlanders Kunskapscenter\, Jönshyttevägen 4\, Säter\, Dalarna\, 78332\, Sweden
CATEGORIES:Dalarna,Säter
ATTACH;FMTTYPE=image/jpeg:https://navigatordalarna.com/wp-content/uploads/2026/01/1225960169-kopia-e1770383461839.jpg
ORGANIZER;CN="ABF Dalarna":MAILTO:gabriella.astrom@abf.se
END:VEVENT
BEGIN:VEVENT
DTSTART;TZID=Europe/Stockholm:20260611T130000
DTEND;TZID=Europe/Stockholm:20260611T143000
DTSTAMP:20260420T141202
CREATED:20260415T080123Z
LAST-MODIFIED:20260415T080123Z
UID:1195-1781182800-1781188200@navigatordalarna.com
SUMMARY:Musik & Språkcafé (Våren 2026)
DESCRIPTION:På Musik & Språkcafé är kommer vi genom sång och musik lära oss svenska tillsammans. \nMålgrupp och förkunskap – Asylsökande och nyanlända. \nLedare – Erik Linder \nLäs mer och anmäl dig här – Musik- och språkcafé \nMetod – Utgångspunkten i alla våra studiecirklar och kurser är folkbildningspedagogiken\, som bygger på dialog mellan ledare och deltagare. Ledaren är navet i cirkeln\, men deltagarnas önskemål\, förkunskaper och behov formar den gemensamma kunskapsresan. Lärandet sker i en liten demokratisk grupp där nyfikenhet och glädje genomsyrar arbetet. \nTillgänglighet – Vår ambition är att så många som möjligt ska kunna delta på våra kurser och använda vårt material. Har du frågor kring tillgänglighet är du välkommen att kontakta oss.
URL:https://navigatordalarna.com/event/musik-sprakcafe-varen-2026-11/
LOCATION:Dahlanders Kunskapscenter\, Jönshyttevägen 4\, Säter\, Dalarna\, 78332\, Sweden
CATEGORIES:Dalarna,Säter
ATTACH;FMTTYPE=image/jpeg:https://navigatordalarna.com/wp-content/uploads/2026/01/1225960169-kopia-e1770383461839.jpg
ORGANIZER;CN="ABF Dalarna":MAILTO:gabriella.astrom@abf.se
END:VEVENT
END:VCALENDAR