BEGIN:VCALENDAR
VERSION:2.0
PRODID:-//Navigator Dalarna - ECPv6.15.17.1//NONSGML v1.0//EN
CALSCALE:GREGORIAN
METHOD:PUBLISH
X-WR-CALNAME:Navigator Dalarna
X-ORIGINAL-URL:https://navigatordalarna.com
X-WR-CALDESC:Händelser för Navigator Dalarna
REFRESH-INTERVAL;VALUE=DURATION:PT1H
X-Robots-Tag:noindex
X-PUBLISHED-TTL:PT1H
BEGIN:VTIMEZONE
TZID:Europe/Stockholm
BEGIN:DAYLIGHT
TZOFFSETFROM:+0100
TZOFFSETTO:+0200
TZNAME:CEST
DTSTART:20250330T010000
END:DAYLIGHT
BEGIN:STANDARD
TZOFFSETFROM:+0200
TZOFFSETTO:+0100
TZNAME:CET
DTSTART:20251026T010000
END:STANDARD
BEGIN:DAYLIGHT
TZOFFSETFROM:+0100
TZOFFSETTO:+0200
TZNAME:CEST
DTSTART:20260329T010000
END:DAYLIGHT
BEGIN:STANDARD
TZOFFSETFROM:+0200
TZOFFSETTO:+0100
TZNAME:CET
DTSTART:20261025T010000
END:STANDARD
BEGIN:DAYLIGHT
TZOFFSETFROM:+0100
TZOFFSETTO:+0200
TZNAME:CEST
DTSTART:20270328T010000
END:DAYLIGHT
BEGIN:STANDARD
TZOFFSETFROM:+0200
TZOFFSETTO:+0100
TZNAME:CET
DTSTART:20271031T010000
END:STANDARD
END:VTIMEZONE
BEGIN:VEVENT
DTSTART;TZID=Europe/Stockholm:20260422T170000
DTEND;TZID=Europe/Stockholm:20260422T183000
DTSTAMP:20260420T172954
CREATED:20260415T092312Z
LAST-MODIFIED:20260415T092312Z
UID:1216-1776877200-1776882600@navigatordalarna.com
SUMMARY:Träna svenska med teater - för kvinnor i alla åldrar (vt 26)
DESCRIPTION:Välkommen till en inspirerande och kreativ aktivitet där du får möjlighet att utveckla din svenska genom teater och språkövningar. Tillsammans skapar vi en trygg och rolig miljö där du kan öva språk\, uttryck och kommunikation på ett lekfullt sätt. \nStartdatum: 11 mars \nTid: Onsdagar kl. 17.00–18.30 \nPlats: Hillängens förskola\, Ludvika \nAktiviteten riktar sig till kvinnor i alla åldrar som vill stärka sin svenska och samtidigt ha roligt tillsammans med andra. \nVi ses där! \nArrangörer: Ludvika kommun & Svenska Röda Korset\, Ludvikakretsen
URL:https://navigatordalarna.com/event/trana-svenska-med-teater-for-kvinnor-i-alla-aldrar-vt-26-2/
LOCATION:Hillängens förskola\, Grågåsvägen 5\, Marnäs\, Dalarna\, 77152\, Sweden
CATEGORIES:Dalarna,Ludvika
ATTACH;FMTTYPE=image/png:https://navigatordalarna.com/wp-content/uploads/2026/04/Sprak-och-teater_ludvika-e1776244884523.png
END:VEVENT
BEGIN:VEVENT
DTSTART;TZID=Europe/Stockholm:20260423T153000
DTEND;TZID=Europe/Stockholm:20260423T161500
DTSTAMP:20260420T172954
CREATED:20260219T101213Z
LAST-MODIFIED:20260219T101213Z
UID:1047-1776958200-1776960900@navigatordalarna.com
SUMMARY:Bokteater under Kreativ Verkstad på Kulturhuset tio14!
DESCRIPTION:Gör teater från en bok med Helena och Karro från barnavdelningen på Falu Stadsbibliotek.\nVi provar teaterövningar\, improviserar korta scener ihop och tar oss därefter tillsammans genom en boks berättelse. \nPå Kreativ Verkstad är åldersgruppen 0-100 år\, därför har vi också den åldersgruppen på passet.\nAlla barn och vuxna välkomnas att vara med och utforska teater och berättande tillsammans.\nMan deltar i övningarna i den utsträckning man själv vill. \nBokteatern ges vid två tillfällen under dagen:\nKl. 15.30-16.15\nKl. 17.30-18.15 \nPlats: rum 202\, på Kulturhuset tio14. \nVid frågor\, kontakta karolina.nordman@falun.se \nVälkommen!
URL:https://navigatordalarna.com/event/bokteater-under-kreativ-verkstad-pa-kulturhuset-tio14-5/
LOCATION:Kulturhuset tio 14\, Teatergatan 5\, Falun\, Dalarna\, 79162\, Sweden
CATEGORIES:Dalarna,Falun
ATTACH;FMTTYPE=image/jpeg:https://navigatordalarna.com/wp-content/uploads/2026/02/Bokteater-e1771495434535.jpg
ORGANIZER;CN="Kulturhuset tio 14":MAILTO:kulturhusettio14@falun.se
END:VEVENT
BEGIN:VEVENT
DTSTART;TZID=Europe/Stockholm:20260423T173000
DTEND;TZID=Europe/Stockholm:20260423T181500
DTSTAMP:20260420T172954
CREATED:20260219T101236Z
LAST-MODIFIED:20260219T101236Z
UID:1049-1776965400-1776968100@navigatordalarna.com
SUMMARY:Bokteater under Kreativ Verkstad på Kulturhuset tio14!
DESCRIPTION:Gör teater från en bok med Helena och Karro från barnavdelningen på Falu Stadsbibliotek.\nVi provar teaterövningar\, improviserar korta scener ihop och tar oss därefter tillsammans genom en boks berättelse. \nPå Kreativ Verkstad är åldersgruppen 0-100 år\, därför har vi också den åldersgruppen på passet.\nAlla barn och vuxna välkomnas att vara med och utforska teater och berättande tillsammans.\nMan deltar i övningarna i den utsträckning man själv vill. \nBokteatern ges vid två tillfällen under dagen:\nKl. 15.30-16.15\nKl. 17.30-18.15 \nPlats: rum 202\, på Kulturhuset tio14. \nVid frågor\, kontakta karolina.nordman@falun.se \nVälkommen!
URL:https://navigatordalarna.com/event/bokteater-under-kreativ-verkstad-pa-kulturhuset-tio14-6/
LOCATION:Kulturhuset tio 14\, Teatergatan 5\, Falun\, Dalarna\, 79162\, Sweden
CATEGORIES:Dalarna,Falun
ATTACH;FMTTYPE=image/jpeg:https://navigatordalarna.com/wp-content/uploads/2026/02/Bokteater-e1771495434535.jpg
ORGANIZER;CN="Kulturhuset tio 14":MAILTO:kulturhusettio14@falun.se
END:VEVENT
BEGIN:VEVENT
DTSTART;TZID=Europe/Stockholm:20260429T170000
DTEND;TZID=Europe/Stockholm:20260429T183000
DTSTAMP:20260420T172954
CREATED:20260415T092402Z
LAST-MODIFIED:20260415T092402Z
UID:1218-1777482000-1777487400@navigatordalarna.com
SUMMARY:Träna svenska med teater - för kvinnor i alla åldrar (vt 26)
DESCRIPTION:Välkommen till en inspirerande och kreativ aktivitet där du får möjlighet att utveckla din svenska genom teater och språkövningar. Tillsammans skapar vi en trygg och rolig miljö där du kan öva språk\, uttryck och kommunikation på ett lekfullt sätt. \nStartdatum: 11 mars \nTid: Onsdagar kl. 17.00–18.30 \nPlats: Hillängens förskola\, Ludvika \nAktiviteten riktar sig till kvinnor i alla åldrar som vill stärka sin svenska och samtidigt ha roligt tillsammans med andra. \nVi ses där! \nArrangörer: Ludvika kommun & Svenska Röda Korset\, Ludvikakretsen
URL:https://navigatordalarna.com/event/trana-svenska-med-teater-for-kvinnor-i-alla-aldrar-vt-26-3/
LOCATION:Hillängens förskola\, Grågåsvägen 5\, Marnäs\, Dalarna\, 77152\, Sweden
CATEGORIES:Dalarna,Ludvika
ATTACH;FMTTYPE=image/png:https://navigatordalarna.com/wp-content/uploads/2026/04/Sprak-och-teater_ludvika-e1776244884523.png
END:VEVENT
END:VCALENDAR