BEGIN:VCALENDAR
VERSION:2.0
PRODID:-//Navigator Dalarna - ECPv6.15.17.1//NONSGML v1.0//EN
CALSCALE:GREGORIAN
METHOD:PUBLISH
X-WR-CALNAME:Navigator Dalarna
X-ORIGINAL-URL:https://navigatordalarna.com
X-WR-CALDESC:Händelser för Navigator Dalarna
REFRESH-INTERVAL;VALUE=DURATION:PT1H
X-Robots-Tag:noindex
X-PUBLISHED-TTL:PT1H
BEGIN:VTIMEZONE
TZID:Europe/Stockholm
BEGIN:DAYLIGHT
TZOFFSETFROM:+0100
TZOFFSETTO:+0200
TZNAME:CEST
DTSTART:20250330T010000
END:DAYLIGHT
BEGIN:STANDARD
TZOFFSETFROM:+0200
TZOFFSETTO:+0100
TZNAME:CET
DTSTART:20251026T010000
END:STANDARD
BEGIN:DAYLIGHT
TZOFFSETFROM:+0100
TZOFFSETTO:+0200
TZNAME:CEST
DTSTART:20260329T010000
END:DAYLIGHT
BEGIN:STANDARD
TZOFFSETFROM:+0200
TZOFFSETTO:+0100
TZNAME:CET
DTSTART:20261025T010000
END:STANDARD
BEGIN:DAYLIGHT
TZOFFSETFROM:+0100
TZOFFSETTO:+0200
TZNAME:CEST
DTSTART:20270328T010000
END:DAYLIGHT
BEGIN:STANDARD
TZOFFSETFROM:+0200
TZOFFSETTO:+0100
TZNAME:CET
DTSTART:20271031T010000
END:STANDARD
END:VTIMEZONE
BEGIN:VEVENT
DTSTART;TZID=Europe/Stockholm:20260424T124500
DTEND;TZID=Europe/Stockholm:20260424T133000
DTSTAMP:20260420T140845
CREATED:20260211T143204Z
LAST-MODIFIED:20260213T122646Z
UID:973-1777034700-1777037400@navigatordalarna.com
SUMMARY:Hälsa och Svenska från dag ett!
DESCRIPTION:Hälsa och svenska från dag ett! \n\nTräning\, gemenskap och energi i vardagen! \nRF SISU Dalarna och Friskis & Svettis Falun bjuder in asylsökande och nyanlända till ett kostnadsfritt träningsprogram där du får möjlighet att röra på dig\, träffa nya människor och stärka både kropp och själ. \nVi tränar tillsammans på ett enkelt\, roligt och inkluderande sätt. Du behöver inga förkunskaper – alla kan vara med!\nAktiviteterna kan bestå av bland annat styrka\, cirkelfys\, core och multifys. \nDet här får du:\n\nRolig och varierad träning\nÖkad energi och bättre hälsa\nGemenskap och nya kontakter\nEn trygg plats där du kan utvecklas i din egen takt\nMöjlighet till separat träning för kvinnor och män vid behov\n\nNär: Fredagar kl. 12.45–13.30\, med start den 13 februari\nPeriod: Vecka 7–21 (12 tillfällen) Uppehåll: Vecka 14\, 18 och 20\nVar: Friskis & Svettis Falun\, Adress: Slaggatan 21\nKostnad: Gratis \nMax antal deltagare: 35 personer — drop-in på plats \n\nTa första steget mot en starkare och friskare vardag!\nVarmt välkommen till en trygg\, välkomnande och energifylld träningsstund varje vecka.
URL:https://navigatordalarna.com/event/halsa-och-svenska-fran-dag-ett-9/
LOCATION:Friskis och Svettis Falun\, Slaggatan 21\, Falun\, Dalarna\, 79170\, Sweden
CATEGORIES:Dalarna,Falun
ATTACH;FMTTYPE=image/jpeg:https://navigatordalarna.com/wp-content/uploads/2026/02/Svenska.pdf-e1770803454124.jpg
ORGANIZER;CN="Friskis och Svettis Falun":MAILTO:info@falun.friskissvettis.se
END:VEVENT
BEGIN:VEVENT
DTSTART;TZID=Europe/Stockholm:20260508T124500
DTEND;TZID=Europe/Stockholm:20260508T133000
DTSTAMP:20260420T140845
CREATED:20260211T143307Z
LAST-MODIFIED:20260213T122637Z
UID:975-1778244300-1778247000@navigatordalarna.com
SUMMARY:Hälsa och Svenska från dag ett!
DESCRIPTION:Hälsa och svenska från dag ett! \n\nTräning\, gemenskap och energi i vardagen! \nRF SISU Dalarna och Friskis & Svettis Falun bjuder in asylsökande och nyanlända till ett kostnadsfritt träningsprogram där du får möjlighet att röra på dig\, träffa nya människor och stärka både kropp och själ. \nVi tränar tillsammans på ett enkelt\, roligt och inkluderande sätt. Du behöver inga förkunskaper – alla kan vara med!\nAktiviteterna kan bestå av bland annat styrka\, cirkelfys\, core och multifys. \nDet här får du:\n\nRolig och varierad träning\nÖkad energi och bättre hälsa\nGemenskap och nya kontakter\nEn trygg plats där du kan utvecklas i din egen takt\nMöjlighet till separat träning för kvinnor och män vid behov\n\nNär: Fredagar kl. 12.45–13.30\, med start den 13 februari\nPeriod: Vecka 7–21 (12 tillfällen) Uppehåll: Vecka 14\, 18 och 20\nVar: Friskis & Svettis Falun\, Adress: Slaggatan 21\nKostnad: Gratis \nMax antal deltagare: 35 personer — drop-in på plats \n\nTa första steget mot en starkare och friskare vardag!\nVarmt välkommen till en trygg\, välkomnande och energifylld träningsstund varje vecka.
URL:https://navigatordalarna.com/event/halsa-och-svenska-fran-dag-ett-10/
LOCATION:Friskis och Svettis Falun\, Slaggatan 21\, Falun\, Dalarna\, 79170\, Sweden
CATEGORIES:Dalarna,Falun
ATTACH;FMTTYPE=image/jpeg:https://navigatordalarna.com/wp-content/uploads/2026/02/Svenska.pdf-e1770803454124.jpg
ORGANIZER;CN="Friskis och Svettis Falun":MAILTO:info@falun.friskissvettis.se
END:VEVENT
BEGIN:VEVENT
DTSTART;TZID=Europe/Stockholm:20260522T124500
DTEND;TZID=Europe/Stockholm:20260522T133000
DTSTAMP:20260420T140845
CREATED:20260211T143344Z
LAST-MODIFIED:20260213T122627Z
UID:977-1779453900-1779456600@navigatordalarna.com
SUMMARY:Hälsa och Svenska från dag ett!
DESCRIPTION:Hälsa och svenska från dag ett! \n\nTräning\, gemenskap och energi i vardagen! \nRF SISU Dalarna och Friskis & Svettis Falun bjuder in asylsökande och nyanlända till ett kostnadsfritt träningsprogram där du får möjlighet att röra på dig\, träffa nya människor och stärka både kropp och själ. \nVi tränar tillsammans på ett enkelt\, roligt och inkluderande sätt. Du behöver inga förkunskaper – alla kan vara med!\nAktiviteterna kan bestå av bland annat styrka\, cirkelfys\, core och multifys. \nDet här får du:\n\nRolig och varierad träning\nÖkad energi och bättre hälsa\nGemenskap och nya kontakter\nEn trygg plats där du kan utvecklas i din egen takt\nMöjlighet till separat träning för kvinnor och män vid behov\n\nNär: Fredagar kl. 12.45–13.30\, med start den 13 februari\nPeriod: Vecka 7–21 (12 tillfällen) Uppehåll: Vecka 14\, 18 och 20\nVar: Friskis & Svettis Falun\, Adress: Slaggatan 21\nKostnad: Gratis \nMax antal deltagare: 35 personer — drop-in på plats \n\nTa första steget mot en starkare och friskare vardag!\nVarmt välkommen till en trygg\, välkomnande och energifylld träningsstund varje vecka.
URL:https://navigatordalarna.com/event/halsa-och-svenska-fran-dag-ett-11/
LOCATION:Friskis och Svettis Falun\, Slaggatan 21\, Falun\, Dalarna\, 79170\, Sweden
CATEGORIES:Dalarna,Falun
ATTACH;FMTTYPE=image/jpeg:https://navigatordalarna.com/wp-content/uploads/2026/02/Svenska.pdf-e1770803454124.jpg
ORGANIZER;CN="Friskis och Svettis Falun":MAILTO:info@falun.friskissvettis.se
END:VEVENT
BEGIN:VEVENT
DTSTART;TZID=Europe/Stockholm:20260529T124500
DTEND;TZID=Europe/Stockholm:20260529T133000
DTSTAMP:20260420T140845
CREATED:20260211T143425Z
LAST-MODIFIED:20260213T122511Z
UID:979-1780058700-1780061400@navigatordalarna.com
SUMMARY:Hälsa och Svenska från dag ett!
DESCRIPTION:Hälsa och svenska från dag ett! \n\nTräning\, gemenskap och energi i vardagen! \nRF SISU Dalarna och Friskis & Svettis Falun bjuder in asylsökande och nyanlända till ett kostnadsfritt träningsprogram där du får möjlighet att röra på dig\, träffa nya människor och stärka både kropp och själ. \nVi tränar tillsammans på ett enkelt\, roligt och inkluderande sätt. Du behöver inga förkunskaper – alla kan vara med!\nAktiviteterna kan bestå av bland annat styrka\, cirkelfys\, core och multifys. \nDet här får du:\n\nRolig och varierad träning\nÖkad energi och bättre hälsa\nGemenskap och nya kontakter\nEn trygg plats där du kan utvecklas i din egen takt\nMöjlighet till separat träning för kvinnor och män vid behov\n\nNär: Fredagar kl. 12.45–13.30\, med start den 13 februari\nPeriod: Vecka 7–21 (12 tillfällen) Uppehåll: Vecka 14\, 18 och 20\nVar: Friskis & Svettis Falun\, Adress: Slaggatan 21\nKostnad: Gratis \nMax antal deltagare: 35 personer — drop-in på plats \n\nTa första steget mot en starkare och friskare vardag!\nVarmt välkommen till en trygg\, välkomnande och energifylld träningsstund varje vecka.
URL:https://navigatordalarna.com/event/halsa-och-svenska-fran-dag-ett-12/
LOCATION:Friskis och Svettis Falun\, Slaggatan 21\, Falun\, Dalarna\, 79170\, Sweden
CATEGORIES:Dalarna,Falun
ATTACH;FMTTYPE=image/jpeg:https://navigatordalarna.com/wp-content/uploads/2026/02/Svenska.pdf-e1770803454124.jpg
ORGANIZER;CN="Friskis och Svettis Falun":MAILTO:info@falun.friskissvettis.se
END:VEVENT
END:VCALENDAR