BEGIN:VCALENDAR
VERSION:2.0
PRODID:-//Navigator Dalarna - ECPv6.15.17.1//NONSGML v1.0//EN
CALSCALE:GREGORIAN
METHOD:PUBLISH
X-WR-CALNAME:Navigator Dalarna
X-ORIGINAL-URL:https://navigatordalarna.com
X-WR-CALDESC:Händelser för Navigator Dalarna
REFRESH-INTERVAL;VALUE=DURATION:PT1H
X-Robots-Tag:noindex
X-PUBLISHED-TTL:PT1H
BEGIN:VTIMEZONE
TZID:Europe/Stockholm
BEGIN:DAYLIGHT
TZOFFSETFROM:+0100
TZOFFSETTO:+0200
TZNAME:CEST
DTSTART:20250330T010000
END:DAYLIGHT
BEGIN:STANDARD
TZOFFSETFROM:+0200
TZOFFSETTO:+0100
TZNAME:CET
DTSTART:20251026T010000
END:STANDARD
BEGIN:DAYLIGHT
TZOFFSETFROM:+0100
TZOFFSETTO:+0200
TZNAME:CEST
DTSTART:20260329T010000
END:DAYLIGHT
BEGIN:STANDARD
TZOFFSETFROM:+0200
TZOFFSETTO:+0100
TZNAME:CET
DTSTART:20261025T010000
END:STANDARD
BEGIN:DAYLIGHT
TZOFFSETFROM:+0100
TZOFFSETTO:+0200
TZNAME:CEST
DTSTART:20270328T010000
END:DAYLIGHT
BEGIN:STANDARD
TZOFFSETFROM:+0200
TZOFFSETTO:+0100
TZNAME:CET
DTSTART:20271031T010000
END:STANDARD
END:VTIMEZONE
BEGIN:VEVENT
DTSTART;TZID=Europe/Stockholm:20260212T123000
DTEND;TZID=Europe/Stockholm:20260612T150000
DTSTAMP:20260420T105021
CREATED:20260116T124333Z
LAST-MODIFIED:20260123T135002Z
UID:111-1770899400-1781276400@navigatordalarna.com
SUMMARY:Språk och Hälsa våren 2026
DESCRIPTION:Lär dig vardagssvenska med fysisk och mental träning \nTorsdagar och fredagar klockan 12.30–15.00 på ABF \nVi är lediga: Den 2 april\, 3 april\, 30 april\, 1 maj\, 14 maj och 15 maj på grund av halvdagar och röda dagar.\nLedare\nNadia Holma\, anställd på ABF och utbildad yogalärare\nSheyma Sheiknur\, certifierad mental coach och utbildningsledare \nMax 10 deltagare. \nAnmäl dig via e-post till: nadia.holma@abf.se eller via sms till: 073-828 64 29. Det är gratis att delta. \nVälkommen att anmäla dig! \nAnmälan\nDe här aktiviteterna ingår i Språk och hälsa\, ett projekt som delfinansieras av Länsstyrelsen Dalarna under 2026.\nVerksamheten är en samverkan mellan Falu kommun (Arbetslivs-och socialförvaltningen)\, ABF Dalarna och RF\nSISU Dalarna.
URL:https://navigatordalarna.com/event/sprak-och-halsa-varen-2026/
LOCATION:ABF Falun\, Magasinsgatan 27\, Falun\, Dalarna\, 79170
CATEGORIES:Dalarna,Falun
ATTACH;FMTTYPE=image/jpeg:https://navigatordalarna.com/wp-content/uploads/2026/01/Sprak-och-halsa-vt-2026-1.pdf-e1770383204641.jpg
ORGANIZER;CN="ABF Dalarna":MAILTO:gabriella.astrom@abf.se
END:VEVENT
BEGIN:VEVENT
DTSTART;TZID=Europe/Stockholm:20260305T174500
DTEND;TZID=Europe/Stockholm:20260312T190000
DTSTAMP:20260420T105021
CREATED:20260129T140333Z
LAST-MODIFIED:20260129T141836Z
UID:686-1772732700-1773342000@navigatordalarna.com
SUMMARY:Språkkör - The language choir (Våren 2026)
DESCRIPTION:En kör för dig som vill lära dig svenska med sång. A choir for those who want to learn Swedish through singing. \n\n\n\n\nVi sjunger välkända svenska sånger. Barn under 16 år är välkomna i vuxens sällskap. Torsdagar\, kl 17.45-19.00.\n\nPlats: Kristinegården\, Kristinegatan 11\n\n\n\nKaffe/the/saft finns. Ta gärna med eget fika.\n\nAlla är välkomna\, både små och stora\, män och kvinnor\, alla religioner\, alla språk.\n\nDu som har svenska som modersmål är också välkommen.\n\nKören är gratis.\nVälkommen!\n\n 
URL:https://navigatordalarna.com/event/sprakkor-the-language-choir-varen-2026-5/
LOCATION:Kristinegården\, Kristinegatan 11\, Falun\, Dalarna\, 79171\, Sweden
CATEGORIES:Dalarna,Falun
ATTACH;FMTTYPE=image/jpeg:https://navigatordalarna.com/wp-content/uploads/2026/01/illustration-kor-e1770383475318.jpg
ORGANIZER;CN="MARY":MAILTO:pernilla.lundstrom@svenskakyrkan.se
END:VEVENT
BEGIN:VEVENT
DTSTART;TZID=Europe/Stockholm:20260306T124500
DTEND;TZID=Europe/Stockholm:20260306T133000
DTSTAMP:20260420T105021
CREATED:20260211T141114Z
LAST-MODIFIED:20260213T122724Z
UID:963-1772801100-1772803800@navigatordalarna.com
SUMMARY:Hälsa och Svenska från dag ett!
DESCRIPTION:Hälsa och svenska från dag ett! \n\nTräning\, gemenskap och energi i vardagen! \nRF SISU Dalarna och Friskis & Svettis Falun bjuder in asylsökande och nyanlända till ett kostnadsfritt träningsprogram där du får möjlighet att röra på dig\, träffa nya människor och stärka både kropp och själ. \nVi tränar tillsammans på ett enkelt\, roligt och inkluderande sätt. Du behöver inga förkunskaper – alla kan vara med!\nAktiviteterna kan bestå av bland annat styrka\, cirkelfys\, core och multifys. \nDet här får du:\n\nRolig och varierad träning\nÖkad energi och bättre hälsa\nGemenskap och nya kontakter\nEn trygg plats där du kan utvecklas i din egen takt\nMöjlighet till separat träning för kvinnor och män vid behov\n\nNär: Fredagar kl. 12.45–13.30\, med start den 13 februari\nPeriod: Vecka 7–21 (12 tillfällen) Uppehåll: Vecka 14\, 18 och 20\nVar: Friskis & Svettis Falun\, Adress: Slaggatan 21\nKostnad: Gratis \nMax antal deltagare: 35 personer — drop-in på plats \n\nTa första steget mot en starkare och friskare vardag!\nVarmt välkommen till en trygg\, välkomnande och energifylld träningsstund varje vecka.
URL:https://navigatordalarna.com/event/halsa-och-svenska-fran-dag-ett-4/
LOCATION:Friskis och Svettis Falun\, Slaggatan 21\, Falun\, Dalarna\, 79170\, Sweden
CATEGORIES:Dalarna,Falun
ATTACH;FMTTYPE=image/jpeg:https://navigatordalarna.com/wp-content/uploads/2026/02/Svenska.pdf-e1770803454124.jpg
ORGANIZER;CN="Friskis och Svettis Falun":MAILTO:info@falun.friskissvettis.se
END:VEVENT
END:VCALENDAR